BEGIN:VCALENDAR
VERSION:2.0
PRODID:-//LapCI - ECPv6.15.20//NONSGML v1.0//EN
CALSCALE:GREGORIAN
METHOD:PUBLISH
X-WR-CALNAME:LapCI
X-ORIGINAL-URL:https://lapci.fi
X-WR-CALDESC:Tapahtumat LapCI
REFRESH-INTERVAL;VALUE=DURATION:PT1H
X-Robots-Tag:noindex
X-PUBLISHED-TTL:PT1H
BEGIN:VTIMEZONE
TZID:Europe/Helsinki
BEGIN:DAYLIGHT
TZOFFSETFROM:+0200
TZOFFSETTO:+0300
TZNAME:EEST
DTSTART:20250330T010000
END:DAYLIGHT
BEGIN:STANDARD
TZOFFSETFROM:+0300
TZOFFSETTO:+0200
TZNAME:EET
DTSTART:20251026T010000
END:STANDARD
BEGIN:DAYLIGHT
TZOFFSETFROM:+0200
TZOFFSETTO:+0300
TZNAME:EEST
DTSTART:20260329T010000
END:DAYLIGHT
BEGIN:STANDARD
TZOFFSETFROM:+0300
TZOFFSETTO:+0200
TZNAME:EET
DTSTART:20261025T010000
END:STANDARD
BEGIN:DAYLIGHT
TZOFFSETFROM:+0200
TZOFFSETTO:+0300
TZNAME:EEST
DTSTART:20270328T010000
END:DAYLIGHT
BEGIN:STANDARD
TZOFFSETFROM:+0300
TZOFFSETTO:+0200
TZNAME:EET
DTSTART:20271031T010000
END:STANDARD
END:VTIMEZONE
BEGIN:VEVENT
DTSTART;TZID=Europe/Helsinki:20260508T113000
DTEND;TZID=Europe/Helsinki:20260508T124500
DTSTAMP:20260421T234700
CREATED:20260330T084315Z
LAST-MODIFIED:20260330T084456Z
UID:192740-1778239800-1778244300@lapci.fi
SUMMARY:Webinaari: Luottamus ensitiedon hetkissä
DESCRIPTION:”Ilman luottamusta jäisin kaiken kanssa aivan yksin”\n\nLuottamus ensitiedon hetkissä -verkkotilaisuus\n\n\n\n\nLuottamus on ensitietotilanteessa erityisen tärkeää. Luottamus luo turvallisuuden tunnetta\, kannattelee vaikeissa tilanteissa ja rakentaa pohjaa kohtaamisille ja yhteistyölle. Tule mukaan pohtimaan\, mitä luottamus tarkoittaa nimenomaan ensitiedon antamisen yhteydessä. Mikä ja miten ensitiedon hetkissä voi rakentaa luottamusta?\n\nTärkeää aihetta tilaisuudessa alustavat tutkija ja kirjailija Lari Launonen\, joka on kirjoittanut palkitun kirjan ’Poikani\, elä vielä ensi talvi’ (2024) poikansa elämästä ja kuolemasta sekä kokemuspuhujat Janet Grundström\, Elias Rintamäki ja Pinja Eskola. Tilaisuus on avoin kaikille ensitiedosta ja ensitiedon laadun edistämisestä kiinnostuneille: ammattilaisille\, opiskelijoille\, vanhemmille ja läheisille.\n\nTilaisuus pidetään perjantaina 8.5.2025 klo 11.30-12.45 verkossa Teams-alustalla.\nWebinaarissa on viittomakielinen tulkkaus. Kun tallenne ilmestyy\, siinä esitykset ovat tekstitettynä.\n\nIlmoittaudu tästä linkistä (linkki Webropol-lomakkeeseen) \ntai liity tilaisuuteen tästä osallistumislinkistä. Lämpimästi tervetuloa!\n\nLisätietoja:\n\nTilaisuuden järjestävät Ensitietoverkosto – lue lisää Ensitietoverkostosta (linkki) – ja Vammaisperheyhdistys Jaatinen ry:n Ensitiedosta omalle polulle -hanke\, lue lisää hankkeesta tästä. \nTutustu Ensitiedon antamisen Hyvä käytäntö -suositukseen (linkki)\nLisätietoja mielellään antaa Miina Weckroth\, miina.weckroth(at)jaatinen.info.\n\nEnsitiedolla tarkoitetaan tietoa\, jota annetaan perheelle\, kun perheenjäsenet kohtaavat lapsen tai sikiön sairauden\, vammaisuuden tai kehovariaation. Ensitietoa on myös se\, kun tietoa annetaan lapselle itselleen. Ensitieto ei rajoitu ensimmäiseen ensitiedon hetkeen\, vaan se on läpi elämän jatkuva prosessi tiedon ja tuen antamista ja saamista. Ensitietotilanteita ovat esimerkiksi myös ne tilanteet\, kun lapsi saa uusia diagnooseja tai lapsen tilanteesta muutoin saadaan uutta tietoa. Tavalla\, jolla ensitieto annetaan\, on suuri vaikutus lapsen ja perheen elämään ja hyvinvointiin. Kyse on koko perheen hyvinvoinnista ja lapsen oikeuksien toteutumisesta.
URL:https://lapci.fi/tapahtuma/webinaari-luottamus-ensitiedon-hetkissa/
LOCATION:Teams
CATEGORIES:ammattilaiset,opiskeli,vanhemmat,webinaari
ATTACH;FMTTYPE=image/png:https://lapci.fi/wp-content/uploads/2026/03/Luottamus_ensitiedon_hetkissa_levea.png
END:VEVENT
END:VCALENDAR