BEGIN:VCALENDAR
VERSION:2.0
PRODID:-//LapCI - ECPv6.15.20//NONSGML v1.0//EN
CALSCALE:GREGORIAN
METHOD:PUBLISH
X-WR-CALNAME:LapCI
X-ORIGINAL-URL:https://lapci.fi
X-WR-CALDESC:Tapahtumat LapCI
REFRESH-INTERVAL;VALUE=DURATION:PT1H
X-Robots-Tag:noindex
X-PUBLISHED-TTL:PT1H
BEGIN:VTIMEZONE
TZID:Europe/Helsinki
BEGIN:DAYLIGHT
TZOFFSETFROM:+0200
TZOFFSETTO:+0300
TZNAME:EEST
DTSTART:20240331T010000
END:DAYLIGHT
BEGIN:STANDARD
TZOFFSETFROM:+0300
TZOFFSETTO:+0200
TZNAME:EET
DTSTART:20241027T010000
END:STANDARD
BEGIN:DAYLIGHT
TZOFFSETFROM:+0200
TZOFFSETTO:+0300
TZNAME:EEST
DTSTART:20250330T010000
END:DAYLIGHT
BEGIN:STANDARD
TZOFFSETFROM:+0300
TZOFFSETTO:+0200
TZNAME:EET
DTSTART:20251026T010000
END:STANDARD
BEGIN:DAYLIGHT
TZOFFSETFROM:+0200
TZOFFSETTO:+0300
TZNAME:EEST
DTSTART:20260329T010000
END:DAYLIGHT
BEGIN:STANDARD
TZOFFSETFROM:+0300
TZOFFSETTO:+0200
TZNAME:EET
DTSTART:20261025T010000
END:STANDARD
END:VTIMEZONE
BEGIN:VEVENT
DTSTART;TZID=Europe/Helsinki:20251129T130000
DTEND;TZID=Europe/Helsinki:20251129T160000
DTSTAMP:20260420T163852
CREATED:20251009T050741Z
LAST-MODIFIED:20251009T061156Z
UID:43874-1764421200-1764432000@lapci.fi
SUMMARY:Koko perheen pikkujoulut
DESCRIPTION:Koko perheen pikkujoulut tulee taas! 🎅\nValkean Talon aula täyttyy tuttuun tapaan joulutunnelmasta ja iloisesta menosta lauantaina 29.11. klo 13-16. Tapahtumassa vierailee niin tonttuja kuin viittova pukki\, tarjoten niin lapsille kuin aikuisille jouluisia työpajoja ja aikaa irtautua arjen rutiineista. \nTapahtuma on maksuton ja avoin kaikille kuulovammaisten ja viittovien perheille. Paikalle saa tulla vapaasti klo 13-16 välillä. Luvassa on paljon hauskaa ohjelmaa koko perheelle\, kuten pipareiden koristelua\, jouluisia jumppaleikkejä\, joulukorttien askartelua\, glögi- ja piparitarjoilu 100:lle ensimmäiselle ja paljon muuta. Aulasta löytyy myös eri toimijoiden esittely- ja myyntipöytiä\, joista voi jo napata pieniä lahjoja kuusen alle🎄 \nLisätietoja tapahtumasta on tulossa lähiaikoina. Seuraa somekanaviamme ja pysy menossa mukana!\nKoko perheen pikkujoulut toteutetaan yhteistyössä kuulo- ja viittomakielialan järjestöjen puolesta: Kuuloliitto\, Kuurojen palvelusäätiö\, Suomen Kuurojen Urheiluliitto SKUL\, Viittovat Perheet\, Kuulovammaisten Lasten Vanhempien Liitto KLVL ry\, LapCI ry\, Suomen Kuurosokeat ja Kuurojen Liitto. \nHela familjens lillajulsfest är här igen! 🎅\nLjusa husets aula fylls som vanligt av julstämning och glädje på lördagen den 29.11 kl. 13–16. På evenemanget får vi besök av både tomtar och en tecknande jultomte\, som bjuder på juliga verkstäder och en möjlighet för både barn och vuxna att komma bort från vardagens rutiner. \nEvenemanget är gratis och öppet för alla hörselskadade samt teckenspråkiga familjer. Man kan komma och gå fritt mellan kl. 13–16. Det utlovas roligt program för hela familjen\, såsom pepparkaksdekoration\, juliga gymnastiklekar\, julkortspyssel\, glögg och pepparkakor för de 100 första besökarna och mycket mer. I aulan finns även olika aktörers presentations- och försäljningsbord\, där man kan hitta små julklappar att lägga under granen🎄 \nMera information om evenemanget publiceras inom kort. Följ våra sociala medier och håll dig uppdaterad!\nHela familjens lillajulsfest genomförs i samarbete med organisationerna inom hörsel- och teckenspråksområdet: \nKuuloliitto\, Dövas servicestiftelse\, Finlands Dövas Idrottsförbund SKUL\, Viittovat perheet\, Hörselskadade Barns Föräldraförbund\, LapCI\, Föreningen Finlands Dövblinda och Finlands Dövas Förbund. \nFamily Christmas Celebration is back again! 🎅\nOnce again\, the lobby of Valkea Talo will be filled with Christmas spirit and joyful activities on Saturday\, November 29th from 1 PM to 4 PM. The event will feature cheerful elves and a signing Santa Claus\, offering festive workshops and a chance for both children and adults to take a break from everyday routines. \nThe event is free and open to all deaf and hard-of-hearing individuals\, as well as sign language-using families. You are welcome to drop in anytime between 1 PM and 4 PM. There will be plenty of fun activities for the whole family\, including gingerbread decorating\, Christmas-themed exercise games\, Christmas card crafting\, glögi and gingerbread cookies for the first 100 visitors\, and much more! In the lobby\, you’ll also find presentation and sales tables hosted by various organisations and small businesses\, offering a great opportunity to pick up small gifts to put under the Christmas tree. 🎄 \nMore information about the event will be shared soon. Follow our social media channels and stay up to date! \nThe Family Christmas Celebration is held in cooperation with organisations in the deaf and sign language sector: Kuuloliitto\, Kuurojen Palvelusäätiö\, Suomen Kuurojen Urheiluliitto (SKUL)\, Viittovat Perheet\, Kuulovammaisten Lasten Vanhempien Liitto (KLVL ry)\, LapCI ry\, Suomen Kuurosokeat\, and Kuurojen Liitto.
URL:https://lapci.fi/tapahtuma/koko-perheen-pikkujoulut/
LOCATION:Valkea Talo\, Ilkantie 4\, Helsinki\, 00400\, Suomi
CATEGORIES:koko perhe
ATTACH;FMTTYPE=image/png:https://lapci.fi/wp-content/uploads/2025/10/Pikkujoulut-banneri.png
END:VEVENT
END:VCALENDAR