BEGIN:VCALENDAR
VERSION:2.0
PRODID:-//LapCI - ECPv6.15.20//NONSGML v1.0//EN
CALSCALE:GREGORIAN
METHOD:PUBLISH
X-ORIGINAL-URL:https://lapci.fi
X-WR-CALDESC:Tapahtumat LapCI
REFRESH-INTERVAL;VALUE=DURATION:PT1H
X-Robots-Tag:noindex
X-PUBLISHED-TTL:PT1H
BEGIN:VTIMEZONE
TZID:Europe/Helsinki
BEGIN:DAYLIGHT
TZOFFSETFROM:+0200
TZOFFSETTO:+0300
TZNAME:EEST
DTSTART:20250330T010000
END:DAYLIGHT
BEGIN:STANDARD
TZOFFSETFROM:+0300
TZOFFSETTO:+0200
TZNAME:EET
DTSTART:20251026T010000
END:STANDARD
BEGIN:DAYLIGHT
TZOFFSETFROM:+0200
TZOFFSETTO:+0300
TZNAME:EEST
DTSTART:20260329T010000
END:DAYLIGHT
BEGIN:STANDARD
TZOFFSETFROM:+0300
TZOFFSETTO:+0200
TZNAME:EET
DTSTART:20261025T010000
END:STANDARD
BEGIN:DAYLIGHT
TZOFFSETFROM:+0200
TZOFFSETTO:+0300
TZNAME:EEST
DTSTART:20270328T010000
END:DAYLIGHT
BEGIN:STANDARD
TZOFFSETFROM:+0300
TZOFFSETTO:+0200
TZNAME:EET
DTSTART:20271031T010000
END:STANDARD
END:VTIMEZONE
BEGIN:VEVENT
DTSTART;VALUE=DATE:20260523
DTEND;VALUE=DATE:20260526
DTSTAMP:20260423T025218
CREATED:20240523T095041Z
LAST-MODIFIED:20260224T090810Z
UID:19032-1779505200-1779677999@lapci.fi
SUMMARY:Vanhempien vertaisviikonloppu
DESCRIPTION:Vanhempien vertaisviikonloppu kutsuu mukaan rentoutumaan!\nSI:ta käyttävien lasten vanhempien oma vertaisviikonloppu pidetään tällä kertaa Kylpylähotelli Scandic Aulangossa\, Hämeenlinnassa la-su 23.-24.5.2026. Ohjelmassa on tuttuun tapaan vertaiskeskusteluita\, liikunnallista menoa\, rentoutumista ja hyvää ruokaa. Viikonloppuun osallistutaan ilman lapsia. \nAlustava ohjelma \nLauantai  \nKlo 11 Saapuminen\, majoittuminen ja lounas  \nKlo 12 Ohjattua vertaiskeskustelua  \nKlo 14 Kiipeilyä Hugo Parkissa (jos haluaa\, vaihtoehtoisesti voi lähteä luontopolulle) \nKlo 17 Päivällinen  \nKlo 18 Kylpylään vapaa pääsy \nSunnuntai  \nKlo 8 Aamupala omaan tahtiin  \nKlo 9.30 Ohjattu kehonhuoltohetki ulkona (sään salliessa) \nKlo 11 Vertaishetki \nKlo 12 Lounas ja kotia kohti  \nHinta viikonlopulle on 90 € / pariskunta\, 60 € / yksittäinen osallistuja. Hinta sisältää täysihoidon. \nPalautteita viime vuoden viikonlopusta: \n”Onnistunut viikonloppu ja tekemistä riitti. Kaikki oli hyvin järjestetty.” \n”Todella mukava ja tarpeellinen tapahtuma; saa oman puolison kanssa yhteistä aikaa\, mikä arjessa on välillä todella haastavaa. Kiitos!” \n”Vkl oli huippu. Se lisäsi voimavarojani ja toivon mahdollisimman monen perheen saavan osallistua ensi vuonnakin.” \nLähde rohkeasti mukaan! Lisätietoja tapahtumasta saat CIsupajan projektikoordinaattorilta Isa Pullilta: p. 045 859 0888 / isa.pulli(at)lapci.fi. \nIlmoittaudu alla olevalla lomakkeella 3.5. mennessä.\n\n\n  \n\n\n\nKeräämme tiedot tapahtumaa\, toimintamme kehittämistä sekä rahoittajalle raportointia varten.\n \nNimi*\n\n \nSukupuoli*\n—Valitse vaihtoehto—nainenmiesmuu\n \nPuhelinnumero*\n\n \nSähköpostiosoite*\n\n \nIkäryhmä*\n18-2930-6263-7980+\n \nKäytössä oleva kieli*\n—Valitse vaihtoehto—suomiruotsienglantimuu\n \nJos vastasit muu\, mikä?\n\n \nMuut mukaan tulevat aikuiset\n \nNimi\n\n \nSukupuoli\n—Valitse vaihtoehto—nainenmiesmuu\n \nIkäryhmä\n18-2930-6263-7980+\n \nTarvitsetteko tulkkausta* (Emme järjestä tulkkeja\, mutta koordinoimme tulkkien tarvetta.)\n—Valitse vaihtoehto—eiviittomakieliviitottu puhekirjoitustulkkaus\n \nOnko sinulla mielessä jotakin aihetta\, josta olisi erityisen kiva keskustella viikonlopun aikana?\n\n \nMahdolliset erityisruokavaliot/ruoka-aineallergiat (erittele mahdollisimman tarkasti kenellä on mitäkin)\n\n \nTapahtumassa otettuja valokuvia ja muita tallenteita\, joissa tapahtumaan tällä lomakkeella ilmoittautuneet esiintyvät\, saa käyttää LapCI ry:n viestinnässä (esim. verkkosivut\, esitteet\, tiedotteet\, sosiaalinen media).*\nkylläei\n \nMistä sait tiedon tapahtumasta*\n—Valitse vaihtoehto—Paperinen tiedotewww.lapci.fiFacebookInstagramsähköpostiuutiskirjeystävämuu\n \nJos vastasit muu\, mistä?\n\n \nJos en tule paikalle enkä ilmoita siitä etukäteen\, sitoudun maksamaan 50 € sakkomaksun.\n \nAnnan suostumukseni lomakkeella antamieni tietojen tallentamiseen ja käsittelyyn.\n \nOlen lukenut LapCI ry:n tietosuojaselosteen.
URL:https://lapci.fi/tapahtuma/vanhempienviikonloppu/
LOCATION:Hämeenlinna\, Aulanko\, Scandic Aulanko\, Aulangontie 93\, Hämeenlinna\, 9313210\, Suomi
CATEGORIES:vanhemmat
ATTACH;FMTTYPE=image/png:https://lapci.fi/wp-content/uploads/2024/05/Vanhempien-vkl-banneri-scaled.png
END:VEVENT
END:VCALENDAR