BEGIN:VCALENDAR
VERSION:2.0
PRODID:-//LapCI - ECPv6.15.20//NONSGML v1.0//EN
CALSCALE:GREGORIAN
METHOD:PUBLISH
X-ORIGINAL-URL:https://lapci.fi
X-WR-CALDESC:Tapahtumat LapCI
REFRESH-INTERVAL;VALUE=DURATION:PT1H
X-Robots-Tag:noindex
X-PUBLISHED-TTL:PT1H
BEGIN:VTIMEZONE
TZID:Europe/Helsinki
BEGIN:DAYLIGHT
TZOFFSETFROM:+0200
TZOFFSETTO:+0300
TZNAME:EEST
DTSTART:20250330T010000
END:DAYLIGHT
BEGIN:STANDARD
TZOFFSETFROM:+0300
TZOFFSETTO:+0200
TZNAME:EET
DTSTART:20251026T010000
END:STANDARD
BEGIN:DAYLIGHT
TZOFFSETFROM:+0200
TZOFFSETTO:+0300
TZNAME:EEST
DTSTART:20260329T010000
END:DAYLIGHT
BEGIN:STANDARD
TZOFFSETFROM:+0300
TZOFFSETTO:+0200
TZNAME:EET
DTSTART:20261025T010000
END:STANDARD
BEGIN:DAYLIGHT
TZOFFSETFROM:+0200
TZOFFSETTO:+0300
TZNAME:EEST
DTSTART:20270328T010000
END:DAYLIGHT
BEGIN:STANDARD
TZOFFSETFROM:+0300
TZOFFSETTO:+0200
TZNAME:EET
DTSTART:20271031T010000
END:STANDARD
END:VTIMEZONE
BEGIN:VEVENT
DTSTART;TZID=Europe/Helsinki:20260314T130000
DTEND;TZID=Europe/Helsinki:20260314T150000
DTSTAMP:20260420T023230
CREATED:20260116T085719Z
LAST-MODIFIED:20260309T081415Z
UID:179105-1773493200-1773500400@lapci.fi
SUMMARY:Kuulopajan pakopelipäivä
DESCRIPTION:Lähde mukaan ratkaisemaan arvoituksia!\nLuvassa on jännitystä\, yhteistyötä ja oivalluksen iloa\, kun Kuulopaja järjestää 7–13-vuotiaille SI- ja kuulokojekäyttäjille lauantaina 14.3. klo 13-15 pakopelipäivän Exit Oulussa! \nTehtävät on suunniteltu ikäryhmälle sopivaksi. Pelaajien mukana on kaksi ohjaajaa\, joista toinen on itse SI-käyttäjä. Ohjaajat ovat mukana varmistamassa\, että kaikilla on mukavaa ja mahdollisuus onnistua. Ryhmämme jakautuu kahteen peliin: Temppelin kirous ja Kuolleen miehen saari. \nPakopeli kestää n. 60 min ja sen jälkeen herkuttelemme poppareilla ja muilla herkuilla vielä kabinetissa. Exit Oulu sijaitsee osoitteessa Uusikatu 22. \nTapahtuma on maksuton.  Tapahtuman aikana vanhemmat voivat rauhassa käydä omilla asioillaan. Jos tilaa jää\, myös sisarukset voivat tulla mukaan. Kuulopajat ovat LapCI ry:n ja Kuuloliiton yhdessä järjestämiä matalan kynnyksen vertaistapahtumia. \nMikäli sinulla on kysyttävää tapahtumaan liittyen\, ole yhteydessä järjestöassistentti Helmi Viljanmaahan helmi.viljanmaa(at)lapci.fi / p. 040 664 6059 (myös Whatsapp). \nIlmoittautuminen on päättynyt. Jos olet edelleen kiinnostunut tulemaan mukaan\, laita viestiä Helmille!
URL:https://lapci.fi/tapahtuma/pakopelipaiva/
LOCATION:Exit Oulu\, Uusikatu 22\, Oulu\, 90100
CATEGORIES:koululaiset
ATTACH;FMTTYPE=image/png:https://lapci.fi/wp-content/uploads/2026/01/Pakopelipaiva-1.png
END:VEVENT
END:VCALENDAR