BEGIN:VCALENDAR
VERSION:2.0
PRODID:-//LapCI - ECPv6.15.20//NONSGML v1.0//EN
CALSCALE:GREGORIAN
METHOD:PUBLISH
X-WR-CALNAME:LapCI
X-ORIGINAL-URL:https://lapci.fi
X-WR-CALDESC:Tapahtumat LapCI
REFRESH-INTERVAL;VALUE=DURATION:PT1H
X-Robots-Tag:noindex
X-PUBLISHED-TTL:PT1H
BEGIN:VTIMEZONE
TZID:Europe/Helsinki
BEGIN:DAYLIGHT
TZOFFSETFROM:+0200
TZOFFSETTO:+0300
TZNAME:EEST
DTSTART:20250330T010000
END:DAYLIGHT
BEGIN:STANDARD
TZOFFSETFROM:+0300
TZOFFSETTO:+0200
TZNAME:EET
DTSTART:20251026T010000
END:STANDARD
BEGIN:DAYLIGHT
TZOFFSETFROM:+0200
TZOFFSETTO:+0300
TZNAME:EEST
DTSTART:20260329T010000
END:DAYLIGHT
BEGIN:STANDARD
TZOFFSETFROM:+0300
TZOFFSETTO:+0200
TZNAME:EET
DTSTART:20261025T010000
END:STANDARD
BEGIN:DAYLIGHT
TZOFFSETFROM:+0200
TZOFFSETTO:+0300
TZNAME:EEST
DTSTART:20270328T010000
END:DAYLIGHT
BEGIN:STANDARD
TZOFFSETFROM:+0300
TZOFFSETTO:+0200
TZNAME:EET
DTSTART:20271031T010000
END:STANDARD
END:VTIMEZONE
BEGIN:VEVENT
DTSTART;TZID=Europe/Helsinki:20260606T130000
DTEND;TZID=Europe/Helsinki:20260606T160000
DTSTAMP:20260421T211234
CREATED:20260310T100229Z
LAST-MODIFIED:20260410T055745Z
UID:182820-1780750800-1780761600@lapci.fi
SUMMARY:Musapaja
DESCRIPTION:Kuulovammaisille 0–6-vuotiaille lapsille ja heidän perheilleen suunnattu Musapaja järjestetään la 6.6.2026 Musiikkikeskus Resonaarissa klo 13-16. Musapajan vetäjänä tulee toimimaan CIsumusasta tuttu Juha-Matti Grönlund. Musiikkikeskus Resonaari sijaitsee osoitteessa Kulosaaren puistotie 26\, 00570 Helsinki. Osallistujille tarjoillaan tapahtuman aikana pientä hiukopalaa ja juotavaa. Tapahtuma on maksuton. \nOhjelma:\nKlo\n13–14 Tervetuloa musisoimaan! Juha-Matti aloittaa tutustumisleikeillä ja lauluilla 14–14.30 Välipalatarjoilu 14.30–16 Soittimiin tutustumista ja laulua\, loppuleikit  \nTapahtuma on suunnattu sekä kuulokoje- että sisäkorvaistutekäyttäjille! Tulkit voi myös ottaa mukaan. \nLisätietoja saat LapCI ry:n järjestöassistentilta Helmi Viljanmaalta helmi.viljanmaa(at)lapci.fi\, 040 664 6059 (whatsapp toimii myös). \nIlmoittaudu mukaan 29.5. mennessä alla olevalla lomakkeella: \n\n\n  \n\n\n\nKeräämme tiedot tapahtumaa\, toimintamme kehittämistä sekä rahoittajalle raportointia varten.\n \nNimi*\n\n \nPuhelinnumero*\n\n \nSähköpostiosoite*\n\n \nIkäryhmä*\n18-2930-6263-7980+\n \nKäytössä oleva kieli*\n—Valitse vaihtoehto—suomiruotsienglantimuu\n \nJos vastasit muu\, mikä?\n\n \nOsallistuvat lapset*. (Nimi ja lapsen ikä\, merkitse myös SI\, jos lapsella on sisäkorvaistute)\n\n\n\n\n \nMuut mukaan tulevat aikuiset\n \nNimi\n\n \nIkäryhmä\n18-2930-6263-7980+\n \nTarvitsetteko tulkkausta* (Emme järjestä tulkkeja\, mutta koordinoimme tulkkien tarvetta.)\n—Valitse vaihtoehto—eiviittomakieliviitottu puhekirjoitustulkkaus\n \nMahdolliset erityisruokavaliot/ruoka-aineallergiat (erittele mahdollisimman tarkasti kenellä on mitäkin)\n\n \nTapahtumassa otettuja valokuvia ja muita tallenteita\, joissa tapahtumaan tällä lomakkeella ilmoittautuneet esiintyvät\, saa käyttää LapCI ry:n viestinnässä (esim. verkkosivut\, esitteet\, tiedotteet\, sosiaalinen media).*\nkylläei\n \nMistä sait tiedon tapahtumasta*\n—Valitse vaihtoehto—Paperinen tiedotewww.lapci.fiFacebookInstagramsähköpostiuutiskirjeystävämuu\n \nJos vastasit muu\, mistä?\n\n \nJos en tule paikalle enkä ilmoita siitä etukäteen\, sitoudun maksamaan 20 € sakkomaksun.\n \nAnnan suostumukseni lomakkeella antamieni tietojen tallentamiseen ja käsittelyyn.\n \nOlen lukenut LapCI ry:n tietosuojaselosteen.
URL:https://lapci.fi/tapahtuma/musapaja-2/
CATEGORIES:alle kouluikäiset,koko perhe
ATTACH;FMTTYPE=image/png:https://lapci.fi/wp-content/uploads/2026/03/Musapaja-banneri-2.png
END:VEVENT
END:VCALENDAR