BEGIN:VCALENDAR
VERSION:2.0
PRODID:-//LapCI - ECPv6.15.20//NONSGML v1.0//EN
CALSCALE:GREGORIAN
METHOD:PUBLISH
X-WR-CALNAME:LapCI
X-ORIGINAL-URL:https://lapci.fi
X-WR-CALDESC:Tapahtumat LapCI
REFRESH-INTERVAL;VALUE=DURATION:PT1H
X-Robots-Tag:noindex
X-PUBLISHED-TTL:PT1H
BEGIN:VTIMEZONE
TZID:Europe/Helsinki
BEGIN:DAYLIGHT
TZOFFSETFROM:+0200
TZOFFSETTO:+0300
TZNAME:EEST
DTSTART:20240331T010000
END:DAYLIGHT
BEGIN:STANDARD
TZOFFSETFROM:+0300
TZOFFSETTO:+0200
TZNAME:EET
DTSTART:20241027T010000
END:STANDARD
BEGIN:DAYLIGHT
TZOFFSETFROM:+0200
TZOFFSETTO:+0300
TZNAME:EEST
DTSTART:20250330T010000
END:DAYLIGHT
BEGIN:STANDARD
TZOFFSETFROM:+0300
TZOFFSETTO:+0200
TZNAME:EET
DTSTART:20251026T010000
END:STANDARD
BEGIN:DAYLIGHT
TZOFFSETFROM:+0200
TZOFFSETTO:+0300
TZNAME:EEST
DTSTART:20260329T010000
END:DAYLIGHT
BEGIN:STANDARD
TZOFFSETFROM:+0300
TZOFFSETTO:+0200
TZNAME:EET
DTSTART:20261025T010000
END:STANDARD
END:VTIMEZONE
BEGIN:VEVENT
DTSTART;TZID=Europe/Helsinki:20250523T170000
DTEND;TZID=Europe/Helsinki:20250523T183000
DTSTAMP:20260422T035758
CREATED:20250423T120301Z
LAST-MODIFIED:20250515T073917Z
UID:122039-1748019600-1748025000@lapci.fi
SUMMARY:Minecraft peli-ilta
DESCRIPTION:Innostuitko uuden elokuvan ansiosta pelaamaan Minecraftia? ⚔🏠🌳 \nPelaillaan yhdessä Nuorten Moottorikorvien Discord-serverillä Minecraftia omalla palvelimella perjantaina 23.5.2025! \n\nTapahtumaan ei tarvitse ilmoittautua ennakkoon. Olemme Discord-puhelussa klo 17 eteenpäin. Mukana pelissä on myös LapCI ry:n ja Kuuloliiton työntekijöitä.\n\nPeli-ilta on suunnattu kaikille Minecraftista kiinnostuneille kuulovammaisille lapsille ja nuorille. Nuoret moottorikorvat -serveri on suunnattu alle 18-vuotiaille.\n\nLinkki Nuorten Moottorikorvien Discord-serverille: https://discord.com/invite/SSXdNCNABQ \n\nJos sinulla on kysymyksiä tapahtumaan liittyen\, voit laittaa viestiä CIsupajan projektikoordinaattorille Isa Pullille p. 045 859 0888 / isa.pulli(at)lapci.fi
URL:https://lapci.fi/tapahtuma/minecraft/
LOCATION:Discord
CATEGORIES:koululaiset,nuoret
ATTACH;FMTTYPE=image/png:https://lapci.fi/wp-content/uploads/2025/04/Tapahtumabanneri-9.png
END:VEVENT
END:VCALENDAR