BEGIN:VCALENDAR
VERSION:2.0
PRODID:-//LapCI - ECPv6.15.20//NONSGML v1.0//EN
CALSCALE:GREGORIAN
METHOD:PUBLISH
X-WR-CALNAME:LapCI
X-ORIGINAL-URL:https://lapci.fi
X-WR-CALDESC:Tapahtumat LapCI
REFRESH-INTERVAL;VALUE=DURATION:PT1H
X-Robots-Tag:noindex
X-PUBLISHED-TTL:PT1H
BEGIN:VTIMEZONE
TZID:Europe/Helsinki
BEGIN:DAYLIGHT
TZOFFSETFROM:+0200
TZOFFSETTO:+0300
TZNAME:EEST
DTSTART:20250330T010000
END:DAYLIGHT
BEGIN:STANDARD
TZOFFSETFROM:+0300
TZOFFSETTO:+0200
TZNAME:EET
DTSTART:20251026T010000
END:STANDARD
BEGIN:DAYLIGHT
TZOFFSETFROM:+0200
TZOFFSETTO:+0300
TZNAME:EEST
DTSTART:20260329T010000
END:DAYLIGHT
BEGIN:STANDARD
TZOFFSETFROM:+0300
TZOFFSETTO:+0200
TZNAME:EET
DTSTART:20261025T010000
END:STANDARD
BEGIN:DAYLIGHT
TZOFFSETFROM:+0200
TZOFFSETTO:+0300
TZNAME:EEST
DTSTART:20270328T010000
END:DAYLIGHT
BEGIN:STANDARD
TZOFFSETFROM:+0300
TZOFFSETTO:+0200
TZNAME:EET
DTSTART:20271031T010000
END:STANDARD
END:VTIMEZONE
BEGIN:VEVENT
DTSTART;VALUE=DATE:20260320
DTEND;VALUE=DATE:20260324
DTSTAMP:20260420T223711
CREATED:20250512T040537Z
LAST-MODIFIED:20260122T074429Z
UID:19249-1773975600-1774234799@lapci.fi
SUMMARY:Nuorten viikonloppu
DESCRIPTION:Tervetuloa mukaan nuorten viikonloppuleirille! Leirillä pääset tutustumaan muihin kuulovammaisiin ja kuuroihin nuoriin ja viettämään hauskaa viikonloppua yhdessä. Nuorten viikonlopun järjestävät yhdessä Kuuloliitto ry\, LapCI ry ja Kuulovammaisten Lasten Vanhempien Liitto ry. \nKenelle leiri on suunnattu?\nn. 13-17-vuotiaille kuulovammaisille ja kuuroille nuorille ympäri Suomen. Leirille otetaan 20 nuorta ilmoittautumisjärjestyksessä. Mikäli tilaa on\, mukaan voi ottaa myös kuulevan sisaruksen tai kaverin. \nMilloin ja missä?\nPe-su 20.-22.3.2026 Meriharjun leirikeskus\, Helsinki \nOhjelma\nNuorten viikonloppu on täynnä hauskaa ohjelmaa\, jonka parissa pääsette tutustumaan muihin huonokuuloisiin ja kuuroihin nuoriin sekä viettämään ikimuistoista viikonloppua yhdessä! \nViikonlopun ohjelmassa on mm. huikea laserpeliseikkailu Activate Games\, sirkushupeja Sirkus Magentassa\, aarteenetsintää\, lounas Itiksessä\, pizzan leipomista\, leiridisco sekä toki rentoa illanviettoa ja hengailua! Viikonlopun aikana on myös mahdollisuus jakaa ajatuksia ja kokemuksia kuuloasioihin liittyen. \nLeiri alkaa perjantaina 20.3.2026 klo 17 majoittumisella ja päättyy sunnuntaina 22.3.2026 n. klo 13.30. Olemme tarvittaessa vastassa Helsingin päärautatieasemalla ja saatamme sinne takaisin leirin päätyttyä. \nTarkempi ohjelma julkaistaan pian. \nPidätämme oikeuden mahdollisiin muutoksiin. \nIlmoittautuminen\nIlmoittaudu leirille KLVL ry:n nettisivuilla: www.klvl.fi/nuorten-viikonloppu-spring-break-2026. \nIlmoittaudu mukaan viimeistään sunnuntaina 1.3.2026. Osallistujat vahvistetaan ilmoittautumisajan päätyttyä. \nMaksaminen ja peruutusehdot\nHinta/omavastuu: 50 € / nuori. Hinta sisältää viikonlopun ohjelman\, majoituksen ja täysihoidon (aamupala\, lounas\, päivällinen\, iltapala)\, joiden yhteisarvo on noin 250 €/hlö. Laskut lähetetään noin kaksi viikkoa ennen leiriä sähköpostitse. \nMahdolliset osallistumisen peruutukset tulee tehdä mahdollisimman pian KLVL ry:n toimistolle: toimisto@klvl.fi. Osallistumisen peruuttaminen tulee tehdä viimeistään 1.3.2026. Mikäli peruuttaminen tehdään tämän jälkeen\, veloitamme leirin omavastuuosuuden. Sairastapauksissa omavastuuta ei peritä\, mutta silloin tulee esittää lääkärin- tai sairaanhoitajan todistus.
URL:https://lapci.fi/tapahtuma/nuortenviikonloppu/
LOCATION:Meriharjun leirikeskus\, Uutelantie 32\, Helsinki\, 00990
CATEGORIES:nuoret
ATTACH;FMTTYPE=image/png:https://lapci.fi/wp-content/uploads/2025/05/Nuorten-viikonloppu.png
END:VEVENT
END:VCALENDAR