BEGIN:VCALENDAR
VERSION:2.0
PRODID:-//LapCI - ECPv6.15.20//NONSGML v1.0//EN
CALSCALE:GREGORIAN
METHOD:PUBLISH
X-WR-CALNAME:LapCI
X-ORIGINAL-URL:https://lapci.fi
X-WR-CALDESC:Tapahtumat LapCI
REFRESH-INTERVAL;VALUE=DURATION:PT1H
X-Robots-Tag:noindex
X-PUBLISHED-TTL:PT1H
BEGIN:VTIMEZONE
TZID:Europe/Helsinki
BEGIN:DAYLIGHT
TZOFFSETFROM:+0200
TZOFFSETTO:+0300
TZNAME:EEST
DTSTART:20250330T010000
END:DAYLIGHT
BEGIN:STANDARD
TZOFFSETFROM:+0300
TZOFFSETTO:+0200
TZNAME:EET
DTSTART:20251026T010000
END:STANDARD
BEGIN:DAYLIGHT
TZOFFSETFROM:+0200
TZOFFSETTO:+0300
TZNAME:EEST
DTSTART:20260329T010000
END:DAYLIGHT
BEGIN:STANDARD
TZOFFSETFROM:+0300
TZOFFSETTO:+0200
TZNAME:EET
DTSTART:20261025T010000
END:STANDARD
BEGIN:DAYLIGHT
TZOFFSETFROM:+0200
TZOFFSETTO:+0300
TZNAME:EEST
DTSTART:20270328T010000
END:DAYLIGHT
BEGIN:STANDARD
TZOFFSETFROM:+0300
TZOFFSETTO:+0200
TZNAME:EET
DTSTART:20271031T010000
END:STANDARD
END:VTIMEZONE
BEGIN:VEVENT
DTSTART;TZID=Europe/Helsinki:20260602T180000
DTEND;TZID=Europe/Helsinki:20260602T200000
DTSTAMP:20260422T125414
CREATED:20250714T070006Z
LAST-MODIFIED:20260417T093250Z
UID:14867-1780423200-1780430400@lapci.fi
SUMMARY:Vertaistreffit vanhemmille
DESCRIPTION:Tukea ja rupattelua vertaisten kanssa\nOnko lapsesi saanut hiljattain kuulovammadiagnoosin?\nHarkitsetteko sisäkorvaistuteleikkausta\, mutta tilanne jännittää?\nKaipaatko arkeesi tukea\, kokemuksia tai neuvoja muilta SI:ta käyttävien lasten vanhemmilta?  \nMikäli vastasit mielessäsi ”kyllä” yhteenkään näistä kysymyksistä\, liity rohkeasti linjoille tiistaina 2.6. klo 18-20\, kun pistämme jälleen vanhempien vertaistreffit pystyyn! Paikalla keskustelua tulevat vetämään tuttuun tapaan SI:ta käyttävien lasten vanhemmat Mari Vassinen ja Anri Ruokangas-Syrjälä\, ja keskustelu rakentuu osallistujien kysymysten ja ajatusten pohjalta. Olet toki tervetullut vain kuuntelemaankin. Vertaistreffit on tarkoitettu ainoastaan vanhemmille\, eikä paikalla tule olemaan yhdistyksemme työntekijöitä. Tapahtuma on maksuton ja pidetään Zoom-sovelluksen välityksellä.  \nLisätietoja tapahtumasta antaa CIsupajan projektikoordinaattori Isa Pulli p. 045 859 0888 / isa.pulli(at)lapci.fi.  \nIlmoittaudu ma 1.6. mennessä alla olevalla lomakkeella. \n\n\n  \n\n\n\nKeräämme tiedot tapahtumaa\, toimintamme kehittämistä sekä rahoittajalle raportointia varten.\n \nNimi*\n\n \nSukupuoli*\n—Valitse vaihtoehto—NainenMiesmuu\n \nSähköpostiosoite*\n\n \nPuhelinnumero*\n\n \nIkäryhmä*\n18-2930-6263-7980+\n \nOnko sinulla esittää jokin toive\, puheenaihe tai kysymys jo etukäteen?\n\n \nMistä sait tiedon tapahtumasta*\n—Valitse vaihtoehto—Paperinen tiedotewww.lapci.fiFacebookInstagramsähköpostiuutiskirjeystävämuu\n \nJos vastasit muu\, mistä?\n\n \nAnnan suostumukseni lomakkeella antamieni tietojen tallentamiseen ja käsittelyyn.\n \nOlen lukenut LapCI ry:n tietosuojaselosteen.
URL:https://lapci.fi/tapahtuma/vertaistreffit/
LOCATION:Zoom
CATEGORIES:vanhemmat
ATTACH;FMTTYPE=image/png:https://lapci.fi/wp-content/uploads/2025/07/Vertaistreffit-1.png
END:VEVENT
END:VCALENDAR