BEGIN:VCALENDAR
VERSION:2.0
PRODID:-//LapCI - ECPv6.15.20//NONSGML v1.0//EN
CALSCALE:GREGORIAN
METHOD:PUBLISH
X-WR-CALNAME:LapCI
X-ORIGINAL-URL:https://lapci.fi
X-WR-CALDESC:Tapahtumat LapCI
REFRESH-INTERVAL;VALUE=DURATION:PT1H
X-Robots-Tag:noindex
X-PUBLISHED-TTL:PT1H
BEGIN:VTIMEZONE
TZID:Europe/Helsinki
BEGIN:DAYLIGHT
TZOFFSETFROM:+0200
TZOFFSETTO:+0300
TZNAME:EEST
DTSTART:20250330T010000
END:DAYLIGHT
BEGIN:STANDARD
TZOFFSETFROM:+0300
TZOFFSETTO:+0200
TZNAME:EET
DTSTART:20251026T010000
END:STANDARD
BEGIN:DAYLIGHT
TZOFFSETFROM:+0200
TZOFFSETTO:+0300
TZNAME:EEST
DTSTART:20260329T010000
END:DAYLIGHT
BEGIN:STANDARD
TZOFFSETFROM:+0300
TZOFFSETTO:+0200
TZNAME:EET
DTSTART:20261025T010000
END:STANDARD
BEGIN:DAYLIGHT
TZOFFSETFROM:+0200
TZOFFSETTO:+0300
TZNAME:EEST
DTSTART:20270328T010000
END:DAYLIGHT
BEGIN:STANDARD
TZOFFSETFROM:+0300
TZOFFSETTO:+0200
TZNAME:EET
DTSTART:20271031T010000
END:STANDARD
END:VTIMEZONE
BEGIN:VEVENT
DTSTART;TZID=Europe/Helsinki:20260411T130000
DTEND;TZID=Europe/Helsinki:20260411T160000
DTSTAMP:20260422T070609
CREATED:20260211T104907Z
LAST-MODIFIED:20260407T092027Z
UID:179959-1775912400-1775923200@lapci.fi
SUMMARY:CIsupajasen Leo's leikkimaa-päivä
DESCRIPTION:Lähde mukaan pomppimaan!\nCIsupajasen Leo’s leikkimaa -päivä järjestetään Raision Leo’s leikkimaassa (Itäniityntie 16\, 21280 Raisio) la 11.4. klo 13-16. Tapahtuma on suunnattu sisäkorvaistutetta (tai luujohtoistutetta) käyttäville lapsille ja heidän perheilleen. Sisäleikkipuistossa lapset ovat vanhempien vastuulla. Tarjolla on myös pientä välipalaa. Tapahtuma on maksuton.  \nCIsupajaset ovat LapCI ry:n jäsenten vetämiä paikallisia tapahtumia\, joita yhdistys auttaa koordinoimaan ja toteuttamaan. Leikkitreffien vetäjänä toimii LapCI ry:n hallituksen jäsen Mervi Santavuori. \nJos tilaa jää\, voivat myös kuulokojeen käyttäjät perheineen osallistua tapahtumaan. Mukaan otetaan 7-10 perhettä\, joten ilmoittaudu mahdollisimman pian! \nLisätietoja tapahtumasta antaa LapCI ry:n järjestöassistentti Helmi Viljanmaa p.040 6646059 (myös WhatsApp toimii) / helmi.viljanmaa(at)lapci.fi. \nIlmoittautuminen on päättynyt. \n  \n 
URL:https://lapci.fi/tapahtuma/cisupajasen-leos-leikkimaa-paiva/
LOCATION:Leo’s leikkimaa Raisio\, Itäniityntie 16\, Raisio\, 21280\, Finland
CATEGORIES:koko perhe
ATTACH;FMTTYPE=image/png:https://lapci.fi/wp-content/uploads/2026/01/Leos-leikkimaa-banneri-scaled.png
END:VEVENT
BEGIN:VEVENT
DTSTART;TZID=Europe/Helsinki:20260411T143000
DTEND;TZID=Europe/Helsinki:20260411T170000
DTSTAMP:20260422T070609
CREATED:20260225T131040Z
LAST-MODIFIED:20260407T092007Z
UID:184838-1775917800-1775926800@lapci.fi
SUMMARY:CIsupajasen RolloPark-päivä
DESCRIPTION:Tule mukaan pitämään hauskaa vertaisten kanssa!\nCIsupajanen seikkailee lauantaina 11.4. klo 14.30-17 Rollohallissa (Osoite: Napapiirintie 14\, 96900 Rovaniemi)! Tule viettämään hauska ja vauhdikas päivä vertaisperheiden kanssa. Osallistujat pääsevät seikkailemaan sekä RolloParkin että RolloHoppiksen puolelle. \nTapahtuma on suunnattu sisäkorvaistutetta (tai luujohtoistutetta) käyttäville lapsille ja heidän perheilleen. Lapset ovat vanhempien vastuulla. Tarjolla on myös pientä välipalaa osallistujille. Tapahtuma on maksuton.  \nTapahtuman vetäjänä toimii LapCI ry:n jäsen Marjut. CIsupajaset ovat LapCI ry:n jäsenten vetämiä paikallisia tapahtumia\, joita yhdistys auttaa koordinoimaan ja toteuttamaan. \nJos tilaa jää\, niin myös kuulokojeen käyttäjät perheineen osallistua tapahtumaan. Tapahtumaan mahtuu 7-10 perhettä\, joten ilmoittaudu pian mukaan! \nLisätietoja tapahtumasta antaa CIsupajan projektikoordinaattori Isa Pulli: isa.pulli(at)lapci.fi / p. 045 859 0888 (myös WhatsApp). \nIlmoittautuminen on päättynyt.
URL:https://lapci.fi/tapahtuma/rollopark/
LOCATION:Rollohalli\, Napapiirintie 14\, Rovaniemi\, 96900\, Finland
CATEGORIES:alle kouluikäiset,koko perhe
ATTACH;FMTTYPE=image/png:https://lapci.fi/wp-content/uploads/2026/02/RolloPark-scaled.png
END:VEVENT
END:VCALENDAR