BEGIN:VCALENDAR
VERSION:2.0
PRODID:-//LapCI - ECPv6.15.20//NONSGML v1.0//EN
CALSCALE:GREGORIAN
METHOD:PUBLISH
X-ORIGINAL-URL:https://lapci.fi
X-WR-CALDESC:Tapahtumat LapCI
REFRESH-INTERVAL;VALUE=DURATION:PT1H
X-Robots-Tag:noindex
X-PUBLISHED-TTL:PT1H
BEGIN:VTIMEZONE
TZID:Europe/Helsinki
BEGIN:DAYLIGHT
TZOFFSETFROM:+0200
TZOFFSETTO:+0300
TZNAME:EEST
DTSTART:20250330T010000
END:DAYLIGHT
BEGIN:STANDARD
TZOFFSETFROM:+0300
TZOFFSETTO:+0200
TZNAME:EET
DTSTART:20251026T010000
END:STANDARD
BEGIN:DAYLIGHT
TZOFFSETFROM:+0200
TZOFFSETTO:+0300
TZNAME:EEST
DTSTART:20260329T010000
END:DAYLIGHT
BEGIN:STANDARD
TZOFFSETFROM:+0300
TZOFFSETTO:+0200
TZNAME:EET
DTSTART:20261025T010000
END:STANDARD
BEGIN:DAYLIGHT
TZOFFSETFROM:+0200
TZOFFSETTO:+0300
TZNAME:EEST
DTSTART:20270328T010000
END:DAYLIGHT
BEGIN:STANDARD
TZOFFSETFROM:+0300
TZOFFSETTO:+0200
TZNAME:EET
DTSTART:20271031T010000
END:STANDARD
BEGIN:DAYLIGHT
TZOFFSETFROM:+0200
TZOFFSETTO:+0300
TZNAME:EEST
DTSTART:20280326T010000
END:DAYLIGHT
BEGIN:STANDARD
TZOFFSETFROM:+0300
TZOFFSETTO:+0200
TZNAME:EET
DTSTART:20281029T010000
END:STANDARD
END:VTIMEZONE
BEGIN:VEVENT
DTSTART;VALUE=DATE:20260101
DTEND;VALUE=DATE:20270102
DTSTAMP:20260421T080843
CREATED:20240205T125957Z
LAST-MODIFIED:20260417T103927Z
UID:17684-1767236400-1798772399@lapci.fi
SUMMARY:Vuoden 2026 tapahtumat
DESCRIPTION:Vuoden 2026 kaikki tapahtumat  \nTalvi/Kevät \n\n14.1.-13.5. CIsuBändi\, Tampere\n21.1. Kuulo- ja viittomakielialan järjestöjen vanhempainilta\, etänä\n22.1. Webinaari: Musiikki puheen kehityksen tukena\, etänä\n24.1. Bändipaja\, Helsinki \n7.-8.2. Talvipäivät Kunnonlähde\, Kankaanpää\n14.2. PERUTTU CIsupajasen Leikkitreffit\, Helsinki\n21.2.-5.5. CIsumusan puhemuskari\, hybridi\n5.-9.3. Nuorten talviurheiluleiri\, Vuokatti\n14.3. Kuulopajan pakopelipäivä\, Oulu\n14.3. Bändipaja\, Helsinki\n20.-22.3. Nuorten viikonloppu\, Helsinki\n27.3.CIsupajasen VR-seikkailu\, Vantaa\n28.3. Koko perheen kevätfestivaali\, Helsinki\n11.4. CIsupajanen Leo’s leikkimaassa\, Raisio\n11.4. CIsupajasen RolloPark-päivä\, Rovaniemi\n18.4. Vuosikokous\, Vantaa\n25.4. CIsupajanen Leo’s leikkimaassa\, Tampere\n2.5. CIsupajanen Ali-Ollin alpakkatilalla\, Klaukkala\n8.5. Webinaari: Luottamus ensitiedon hetkissä\, etänä\n23.-24.5. Vanhempien vertaisviikonloppu\, Hämeenlinna\n\nKesä \n\n1.-5.6. Musaleiri\, Helsinki\n2.6 Vertaistreffit vanhemmille\, etänä\n6.6. Musapaja\, Helsinki\n11.-16.6. Englannin Kielimatka\, Lontoo & Bath\n15.-16.8. Kesäpäivät\, Mikkeli\n30.8. CIsupajasen ponipäivä\, Helsinki\n\nSyksy/Talvi \n\n12.-13.9. Pienten lasten vertaisviikonloppu\n19.9. Kuulopajan retki iik!week-festivaaleille\, Helsinki\n2.-4.10. Vertaisperhekurssi\, Haukipudas\n14.-15.11. Lasten jouluinen taideviikonloppu\, Kirkkonummi\n12.12. Koko perheen pikkujoulut\, Helsinki\n\n(lista päivitetty 16.4.2026.)
URL:https://lapci.fi/tapahtuma/2026/
CATEGORIES:koko perhe
ATTACH;FMTTYPE=image/png:https://lapci.fi/wp-content/uploads/2024/02/Tapahtumabannerit-2026-1.png
END:VEVENT
BEGIN:VEVENT
DTSTART;VALUE=DATE:20260114
DTEND;VALUE=DATE:20260515
DTSTAMP:20260421T080843
CREATED:20230626T122610Z
LAST-MODIFIED:20260109T113434Z
UID:15255-1768359600-1778727599@lapci.fi
SUMMARY:CIsuBändi Tampereella
DESCRIPTION:CIsuBändiin ovat tervetulleita soittamaan kaikki musiikkitoiminnasta kiinnostuneet kuulovammaiset lapset. Bänditoiminta on suunnattu noin 9-13-vuotiaille. Toiminnassa harjoitellaan soittamaan erilaisia bändisoittimia ja laulamaan erilaisia biisejä! Aikaisempaa kokemusta ei tarvitse olla. \nCIsuBändi harjoittelee Tampereella yhdenvertaisen taiteen oppilaitos Vimmartissa keskiviikko iltapäivisin 17.15-18:00. \nToimintaa järjestetään sinisellä merkittyinä päivinä. Kausimaksu toiminnalle on 40€. Voit hakea vapautusta kausimaksusta mainitsemalla siitä lisätietoja -kohdassa. \n14.1.  21.1.   28.1.   \n4.2.  11.2.  18.2. \n25.2. Hiihtoloma\, ei opetusta \n4.3.   11.3.  18.3.   25.3.    \n1.4.   8.4.   15.4.   22.4.   29.4.   \n6.5.   13.5. \n  \nMikäli sinulla on jotain kysyttävää musiikkitoimintaan liittyen\, ole rohkeasti yhteydessä projektikoordinaattoriin Katariinaan: \n  \nKatariina Varjonen \nkatariina.varjonen@lapci.fi \n0405791450 \n  \n  \nIlmoittaudu alla olevalla lomakkeella: \n\n\n  \n\n\n\nIlmoittajan nimi*\n\n \nPuhelinnumero*\n\n \nOsoite*\n\n \nSähköpostiosoite*\n\n \nIkäryhmä*\n18-2930-6263-7980+\n \nLapsen tiedot\n \nLapsen nimi*\n\n \nLapsen syntymäaika*\n\n \nKuulovamman vaikeusaste*\nLievä\, 20–40 dBKeskivaikea\, 40–70 dBVaikea\, 70–95 dBErittäin vaikea\, +95 dB\n \nLapsen käytössä oleva kieli*\n—Valitse vaihtoehto—suomiruotsienglantimuu\n \nJos vastasit muu\, mikä? Käyttääkö lapsi tukiviittomia?\n\n \nOnko lapsella kuulolaite? Jos vastasit kyllä\, niin minkälainen?*\n\n \nJos vastasit kyllä\, onko kuulolaite yhdessä korvassa\, vai molemmissa?\nVasemmassa korvassaOikeassa korvassaMolemmissa korvissa\n \nMahdolliset liitännäisvammat\n\n \nMinkälaisesta musiikista lapsi pitää?*\n\n \nMuut tiedot\n \nMahdolliset lisätiedot\n\n \nMistä sait tiedon tapahtumasta*\n—Valitse vaihtoehto—KuulokeskusPaperinen tiedotewww.lapci.fiFacebookInstagramSähköpostiUutiskirjeKuntoutusohjaajaPuheterapeuttiYstäväMuu\n \nJos vastasit muu\, mistä?\n\n \nAnnan suostumukseni lomakkeella antamieni tietojen tallentamiseen ja käsittelyyn.\n \nOlen lukenut LapCI ry:n tietosuojaselosteen.\n \n\n \n\n\n\n  \n  \n\n 
URL:https://lapci.fi/tapahtuma/cisubandi/
LOCATION:Vimmart\, Tampere\, Hämeenpuisto 44\, Tampere\, 33200
CATEGORIES:alle kouluikäiset,koululaiset,musiikki
ATTACH;FMTTYPE=image/png:https://lapci.fi/wp-content/uploads/2023/06/Artikkelikuva-7.png
END:VEVENT
BEGIN:VEVENT
DTSTART;TZID=Europe/Helsinki:20260121T170000
DTEND;TZID=Europe/Helsinki:20260121T190000
DTSTAMP:20260421T080843
CREATED:20251217T121240Z
LAST-MODIFIED:20251217T121240Z
UID:175061-1769014800-1769022000@lapci.fi
SUMMARY:Kuulo- ja viittomakielialan järjestöjen vanhempainilta
DESCRIPTION:Tervetuloa mukaan kuulo- ja viittomakielialan järjestöjen yhteiseen vanhempainiltaan verkossa! Illan teemana on vertaistuen ja vertaistoiminnan merkitys kuulovammaisille\, viittomakielisille ja kuulonäkövammaisille lapsille & nuorille sekä heidän perheilleen. \nKenelle tilaisuus on suunnattu?\nVanhempainilta on suunnattu kaikkien kuulovammaisten\, viittomakielisten ja kuulonäkövammaisten lasten ja nuorten perheille. Myös muut aiheesta kiinnostuneet (ammattilaiset\, opiskelijat) ovat tervetulleita mukaan. \nVanhempainillan järjestävät yhdessä Kuulovammaisten Lasten Vanhempien Liitto ry\, Suomen Kuurojen Urheiluliitto ry\, Kuurojen Liitto\, Kuuloliitto\, LapCI ry\, Suomen Kuurosokeat ry\, Kuurojen Palvelusäätiö ja KuuloAuris. \nMilloin ja missä?\nKeskiviikkona 21.1.2026 klo 17-19 | Zoom \nOhjelma\nIllan ohjelmassa on kuulovammaisten nuorten paneelikeskustelu vertaistuen merkityksestä ja heidän omista kokemuksistaan sekä kuulo- ja viittomakielialan järjestöjen esittely. Kerromme\, millaisia vertaistoiminnan mahdollisuuksia eri järjestöt tarjoavat ja millaisia hyötyjä kuulovammaiset\, viittomakieliset ja kuulonäkövammaiset lapset ja nuoret toiminnasta ovat saaneet. \n17.00-17.05 Tervetuloa!\n17.05-17.35 Kuulovammaisten nuorten kokemuspuheenvuorot – aiheena vertaistuen merkitys\n17.40-18.30 Kuulo- ja viittomakielialan järjestöt esittäytyvät: Kuulovammaisten Lasten Vanhempien Liitto ry\, LapCI ry\, Kuurojen Liitto\, Suomen Kuurojen Urheiluliitto\, Kuuloliitto ja KuuloAuris.\n18.30-19.00 Mahdollisuus vapaalle keskustelulle ja kysymyksille. Paikalla järjestöjen asiantuntijat ja kokemuspuheenvuorojen pitäjät. \nIlmoittautuminen\nIlmoittaudu mukaan viimeistään sunnuntaina 18.1.2026. Saat linkin vanhempainiltaan viimeistään tiistaina 20.1.2026. Ilmoittaudu tästä linkistä: kuulo- ja viittomakielijärjestöjen vanhempainilta. 
URL:https://lapci.fi/tapahtuma/vanhempainilta/
LOCATION:Zoom
CATEGORIES:vanhemmat
ATTACH;FMTTYPE=image/png:https://lapci.fi/wp-content/uploads/2025/12/Vanhempainilta-IG-1-scaled.png
END:VEVENT
BEGIN:VEVENT
DTSTART;TZID=Europe/Helsinki:20260122T150000
DTEND;TZID=Europe/Helsinki:20260122T160000
DTSTAMP:20260421T080843
CREATED:20251119T124732Z
LAST-MODIFIED:20251211T122942Z
UID:170891-1769094000-1769097600@lapci.fi
SUMMARY:Webinaari: Musiikki puheen kehityksen tukena
DESCRIPTION:Varhainen tuki lisää arjen mielekkyyttä ja vähentää kuormittavuutta.  Tukea voidaan tarjota monin eri tavoin. Webinaarissa esitellään kaksi erilaista keinoa tukea lasten kehitystä hyvin varhaisessa vaiheessa. Puheen ja kielen kehityksen moniammatillisen varhaisen tuen hankkeen ja siinä tuotettavan KIMPPU-toimintamallin  esittelee hankkeen työryhmä\, ja LapCI ry:n CIsumusa-toiminnasta kertoo toiminnan projektikoordinaattori. \nFT Ritva Torppa (logopedian dosentti\, Turun yliopisto\, sekä logopedian yliopistonlehtori\, Helsingin yliopisto) käsittelee puhutun kielen kehityksen tukemista musiikin avulla.  \nPuheen ja kielen kehityksen moniammatillinen varhainen tuki (KIMPPU) -hankkeessa kehitetään toimintamallia\, joka tarjoaa varhaista ja yhdenvertaista tukea alle 3-vuotiaiden lasten puheen ja kielen kehitykseen. KIMPPU-toimintamallissa neuvola ja varhaiskasvatus tukevat perheitä lapsen kielen kehityksessä entistä tiiviimmin yhdessä puheterapeuttien kanssa. Tavoitteena on vahvistaa perheiden osallisuutta ja vähentää myöhempää tuen tarvetta. Pilottialueina toimivat Etelä-Pohjanmaan\, Pohjois-Pohjanmaan ja Lapin hyvinvointialueet. Tavoitteena on\, että toimintamalli tulee käyttöön valtakunnallisesti. Hanketta koordinoi vuosina 2025–2027 Kuntoutussäätiö ja osarahoittajina toimivat Euroopan unioni sekä Sanapolku. Tämä webinaari on yksi hankkeen toteutusvaiheen keskeisistä osa-alueista. \nCIsumusa-toiminnassa yhdistetään kielen ja kuulon kuntoutus tavoitteelliseen musiikkitoimintaan. CIsumusan tavoitteena on tuoda musiikin iloa perheille ja lisätä musiikin hyödyntämistä kuulonkuntoutuksessa. Toiminnan rahoittaa STEA. Puhemuskari on erityisesti kuulovammaisia lapsia varten. CIsumusan tavoitteena on tuoda musiikin iloa perheille ja lisätä musiikin hyödyntämistä kuulonkuntoutuksessa. Ohjaajilla on vankka ammattitaito kuulonkuntoutuksesta sekä musiikkikasvatuksesta. Toiminnassa huomioidaan aina lasten yksilölliset tarpeet. \nMicrosoft Teams Tarvitsetko apua?\nLiity kokoukseen nyt\nKokoustunnus: 333 406 941 819 61\nTunnuskoodi: 8H5MU2mU\nAikataulu \nKlo 15.00 Alkusanat ja Kimpun ja CIsumusan tiivis esittely \nKlo 15.10 FT Ritva Torppa (Logopedian dosentti\, Turun yliopisto ja Logopedian yliopiston lehtori\, Helsingin yliopisto) kertoo miten musiikin avulla voi tukea varhaista puhekielen kehitystä.  \nKlo 15.45 Keskustelua \nLisätiedot: CIsumusan projektikoordinaattori Katariina Varjonen p. 040 579 1450 / katariina.varjonen(at)lapci.fi. \nIlmoittaudu mukaan webinaariin 21.1. mennessä alla olevalla lomakkeella. \n\n\n  \n\n\n\nKeräämme tiedot tapahtumaa\, toimintamme kehittämistä sekä rahoittajalle raportointia varten.\n \nNimi ja ikä*\n\n \nSukupuoli*\n—Valitse vaihtoehto—nainenmiesmuu\n \nSähköpostiosoite*\n\n \nMikä seuraavista kuvaa sinua parhaiten?*\nOlen puheterapeuttiTyöskentelen varhaiskasvatuksessaTyöskentelen erikoissairaanhoidossaPerheenjäsenelläni on kielen kehityksen viivästymäPerheenjäsenelläni on kuulovammaOlen kiinnostunut aiheesta muun syyn vuoksi\n \nTarvitsetteko tulkkausta* (Emme järjestä tulkkeja\, mutta koordinoimme tulkkien tarvetta.)\n—Valitse vaihtoehto—EiViittomakieliViitottu puheKirjoitustulkkaus\n \nMahdolliset lisätiedot\n\n \nOnko jotain tiettyä aihetta/kysymystä\, jota haluaisit puhujien käsittelevän webinaarin aikana?\n\n \nMistä sait tiedon tapahtumasta*\n—Valitse vaihtoehto—Paperinen tiedotewww.lapci.fiFacebookInstagramsähköpostiuutiskirjeystävämuu\n \nJos vastasit muu\, mistä?\n\n \nAnnan suostumukseni lomakkeella antamieni tietojen tallentamiseen ja käsittelyyn.\n \nOlen lukenut LapCI ry:n tietosuojaselosteen.
URL:https://lapci.fi/tapahtuma/webinaari-musiikki-puheen-kehityksen-tukena/
LOCATION:Teams
CATEGORIES:alle kouluikäiset,ammattilaiset,musiikki,vanhemmat,webinaari
ATTACH;FMTTYPE=image/png:https://lapci.fi/wp-content/uploads/2025/11/Tapahtumabanneri-2.png
END:VEVENT
BEGIN:VEVENT
DTSTART;TZID=Europe/Helsinki:20260124T110000
DTEND;TZID=Europe/Helsinki:20260124T130000
DTSTAMP:20260421T080843
CREATED:20251211T122630Z
LAST-MODIFIED:20251217T123814Z
UID:174217-1769252400-1769259600@lapci.fi
SUMMARY:CIsumusan bändipaja
DESCRIPTION:CIsumusan Kuulomuskari Helsingissä jää kevään ajaksi tauolle. Musiikkikeskus Resonaari Helsingin Kulosaaressa suunnittelee muuttoa ja jatkamme Kuulomuskaria taas uusissa tiloissa syksyllä 2026. \nKiinnostaako bändisoittaminen? Tule mukaan CIsumusan Bändipajaan 24.1. klo 11-14! Bändipaja on yhden päivän tapahtuma\, jossa nimensä mukaisesti soitetaan bändisoittimia CIsumusasta tutun Juha-Matti ”Juhis” Grönlundin ohjaamana. Tapahtumassa on tauko\, jolloin lapsille tarjotaan pientä purtavaa. Tapahtuma on suunnattu kaikille kuulovammaisille 7-12-vuotiaille lapsille kuulon apuvälineestä riippumatta. Aiempaa kokemusta soittamisesta ei tarvitse olla. Bändipaja on maksuton. \nIlmoittaudu mukaan 20.1. mennessä alla olevalla lomakkeella:\n\n\n  \n\n\n\nIlmoittajan nimi*\n\n \nPuhelinnumero*\n\n \nOsoite*\n\n \nSähköpostiosoite*\n\n \nIkäryhmä*\n18-2930-6263-7980+\n \nMihin toimintaan haluan ilmoittaa lapseni?\n—Valitse vaihtoehto—Helsinki KuulomuskariHelsinki CIsuBändiTampere CIsuBändi\n \nLapsen tiedot\n \nLapsen nimi*\n\n \nLapsen syntymäaika*\n\n \nKuulovamman vaikeusaste*\nLievä\, 20–40 dBKeskivaikea\, 40–70 dBVaikea\, 70–95 dBErittäin vaikea\, +95 dB\n \nLapsen käytössä oleva kieli*\n—Valitse vaihtoehto—suomiruotsienglantimuu\n \nJos vastasit muu\, mikä? Käyttääkö lapsi tukiviittomia?\n\n \nOnko lapsella kuulolaite? Jos vastasit kyllä\, niin minkälainen?*\n\n \nJos vastasit kyllä\, onko kuulolaite yhdessä korvassa\, vai molemmissa?\nVasemmassa korvassaOikeassa korvassaMolemmissa korvissa\n \nMahdolliset liitännäisvammat\n\n \nMinkälaisesta musiikista lapsi pitää?*\n\n \nMuut tiedot\n \nMahdolliset lisätiedot\n\n \nMistä sait tiedon tapahtumasta*\n—Valitse vaihtoehto—KuulokeskusPaperinen tiedotewww.lapci.fiFacebookInstagramSähköpostiUutiskirjeKuntoutusohjaajaPuheterapeuttiYstäväMuu\n \nJos vastasit muu\, mistä?\n\n \nAnnan suostumukseni lomakkeella antamieni tietojen tallentamiseen ja käsittelyyn.\n \nOlen lukenut LapCI ry:n tietosuojaselosteen.
URL:https://lapci.fi/tapahtuma/cisumusan-bandipaja/
LOCATION:Musiikkikeskus Resonaari\, Kulosaaren puistotie 26\, Helsinki\, 00570\, Suomi
CATEGORIES:koululaiset,musiikki
ATTACH;FMTTYPE=image/png:https://lapci.fi/wp-content/uploads/2025/12/Tapahtumabanneri-7-scaled.png
END:VEVENT
END:VCALENDAR