BEGIN:VCALENDAR
VERSION:2.0
PRODID:-//LapCI - ECPv6.15.20//NONSGML v1.0//EN
CALSCALE:GREGORIAN
METHOD:PUBLISH
X-ORIGINAL-URL:https://lapci.fi
X-WR-CALDESC:Tapahtumat LapCI
REFRESH-INTERVAL;VALUE=DURATION:PT1H
X-Robots-Tag:noindex
X-PUBLISHED-TTL:PT1H
BEGIN:VTIMEZONE
TZID:Europe/Helsinki
BEGIN:DAYLIGHT
TZOFFSETFROM:+0200
TZOFFSETTO:+0300
TZNAME:EEST
DTSTART:20240331T010000
END:DAYLIGHT
BEGIN:STANDARD
TZOFFSETFROM:+0300
TZOFFSETTO:+0200
TZNAME:EET
DTSTART:20241027T010000
END:STANDARD
BEGIN:DAYLIGHT
TZOFFSETFROM:+0200
TZOFFSETTO:+0300
TZNAME:EEST
DTSTART:20250330T010000
END:DAYLIGHT
BEGIN:STANDARD
TZOFFSETFROM:+0300
TZOFFSETTO:+0200
TZNAME:EET
DTSTART:20251026T010000
END:STANDARD
BEGIN:DAYLIGHT
TZOFFSETFROM:+0200
TZOFFSETTO:+0300
TZNAME:EEST
DTSTART:20260329T010000
END:DAYLIGHT
BEGIN:STANDARD
TZOFFSETFROM:+0300
TZOFFSETTO:+0200
TZNAME:EET
DTSTART:20261025T010000
END:STANDARD
END:VTIMEZONE
BEGIN:VEVENT
DTSTART;TZID=Europe/Helsinki:20251205T173000
DTEND;TZID=Europe/Helsinki:20251205T183000
DTSTAMP:20260421T194801
CREATED:20240926T092033Z
LAST-MODIFIED:20251113T094252Z
UID:41932-1764955800-1764959400@lapci.fi
SUMMARY:CIsumusan pikkujouluinen etämuskari
DESCRIPTION:Tervetuloa viettämään pikkujouluja CIsumusan kanssa etämuskarin merkeissä! \nPikkujouluja vietetään 5. joulukuuta klo 17.30 alkaen Zoom-sovelluksen välityksellä. Tapahtuma kestää n. 30-45 minuuttia riippuen osallistujien iästä ja keskittymisen kestosta. Etämuskarin ohjaa lasten ja aikuisten suosikki\, iki-ihana joulupukki Juha-Matti Grönlund\, mukanaan myös Joulumuori. \nEtämuskari on suunnattu 0-8-vuotiaille kuulovammaisille lapsille ja heidän sisaruksilleen. Tapahtuma on maksuton. Etämuskari on avoin kaikille\, ei tarvitse olla aikaisempaa kokemusta CIsumusan puhemuskareista. Osallistumista varten ei tarvitse soittimia. \nLaita tonttulakki päähän tai muu jouluinen asu tunnelmaa luomaan\, ja liity linjoille mukaan! \nIlmoittaudu 2.12. mennessä alla olevalla lomakkeella. Ilmoittautuminen on sitova. \n\n\n  \n\n\n\nKeräämme tiedot tapahtumaa\, toimintamme kehittämistä sekä rahoittajalle raportointia varten.\n \nNimi*\n\n \nSähköpostiosoite*\n\n \nIkäryhmä*\n18-2930-6263-7980+\n \nOsallistuvat lapset*. (Nimi ja ikä\, merkitse myös SI\, jos lapsella on sisäkorvaistute)\n\n\n\n\n \nMuut osallistuvat aikuiset\n \nNimi\n\n \nIkäryhmä\n18-2930-6263-7980+\n \nLisätietoa\n\n \nMistä sait tiedon tapahtumasta*\n—Valitse vaihtoehto—Paperinen tiedotewww.lapci.fiFacebookInstagramsähköpostiuutiskirjeystävämuu\n \nTapahtumassa otettuja valokuvia ja muita tallenteita\, joissa tapahtumaan tällä lomakkeella ilmoittautuneet esiintyvät\, saa käyttää LapCI ry:n viestinnässä (esim. verkkosivut\, esitteet\, tiedotteet\, sosiaalinen media).*\nkylläei\n \nJos vastasit muu\, mistä?\n\n \nAnnan suostumukseni lomakkeella antamieni tietojen tallentamiseen ja käsittelyyn.\n \nOlen lukenut LapCI ry:n tietosuojaselosteen.
URL:https://lapci.fi/tapahtuma/cisumusan-pikkujouluinen-etamuskari/
LOCATION:Zoom
CATEGORIES:alle kouluikäiset,koko perhe,musiikki
ATTACH;FMTTYPE=image/png:https://lapci.fi/wp-content/uploads/2024/09/Bannereita-5-2.png
END:VEVENT
BEGIN:VEVENT
DTSTART;TZID=Europe/Helsinki:20251207T130000
DTEND;TZID=Europe/Helsinki:20251207T160000
DTSTAMP:20260421T194802
CREATED:20250928T093248Z
LAST-MODIFIED:20251205T062220Z
UID:18016-1765112400-1765123200@lapci.fi
SUMMARY:CIsupajasen leikkitreffit\, Turku
DESCRIPTION:CIsupajasen jouluiset leikkitreffit järjestetään Turussa Perhetalo Heidekenin Marakatti-tilassa (Sepänkatu 3\, 20700 Turku) sunnuntaina 7.12. klo 13-16 . Leikkitreffien vetäjänä toimii LapCI ry:n hallituksen jäsen Mervi Santavuori. Kohderyhmänä on alle kouluikäiset lapset\, mutta myös alakouluikäiset ovat lämpimästi tervetulleita tapahtumaan.  \nLeikkitreffeillä lapset pääsevät vapaasti leikkimään ja sillä välin vanhemmat viettämään aikaa yhdessä. Taustalla soi joululaulut ja tarjolla on myös jouluista herkkua osallistujille. Tule viettämään tunnelmallinen ja hauska päivä kanssamme! \nCIsupajaset ovat LapCI ry:n jäsenten vetämiä paikallisia tapahtumia\, joita yhdistys auttaa koordinoimaan ja toteuttamaan. Tapahtuma on maksuton. Jos tilaa jää voivat myös kuulokojeen käyttäjät perheineen osallistua tapahtumaan.   \nLisätietoja tapahtumasta antaa LapCI ry:n assistentti Helmi Viljanmaa  \np.040 664 6059 (myös WhatsApp toimii) / helmi.viljanmaa(at)lapci.fi.   \nIlmoittautuminen on päättynyt.
URL:https://lapci.fi/tapahtuma/jouluiset-leikkitreffit/
LOCATION:Perhetalo Heideken\, Sepänkatu 3\, Turku\, Varsinais-Suomi\, 20700\, Suomi
CATEGORIES:alle kouluikäiset,koko perhe,vanhemmat
ATTACH;FMTTYPE=image/png:https://lapci.fi/wp-content/uploads/2024/08/Tapahtumabanneri-20-scaled.png
END:VEVENT
END:VCALENDAR