BEGIN:VCALENDAR
VERSION:2.0
PRODID:-//LapCI - ECPv6.15.20//NONSGML v1.0//EN
CALSCALE:GREGORIAN
METHOD:PUBLISH
X-ORIGINAL-URL:https://lapci.fi
X-WR-CALDESC:Tapahtumat LapCI
REFRESH-INTERVAL;VALUE=DURATION:PT1H
X-Robots-Tag:noindex
X-PUBLISHED-TTL:PT1H
BEGIN:VTIMEZONE
TZID:Europe/Helsinki
BEGIN:DAYLIGHT
TZOFFSETFROM:+0200
TZOFFSETTO:+0300
TZNAME:EEST
DTSTART:20240331T010000
END:DAYLIGHT
BEGIN:STANDARD
TZOFFSETFROM:+0300
TZOFFSETTO:+0200
TZNAME:EET
DTSTART:20241027T010000
END:STANDARD
BEGIN:DAYLIGHT
TZOFFSETFROM:+0200
TZOFFSETTO:+0300
TZNAME:EEST
DTSTART:20250330T010000
END:DAYLIGHT
BEGIN:STANDARD
TZOFFSETFROM:+0300
TZOFFSETTO:+0200
TZNAME:EET
DTSTART:20251026T010000
END:STANDARD
BEGIN:DAYLIGHT
TZOFFSETFROM:+0200
TZOFFSETTO:+0300
TZNAME:EEST
DTSTART:20260329T010000
END:DAYLIGHT
BEGIN:STANDARD
TZOFFSETFROM:+0300
TZOFFSETTO:+0200
TZNAME:EET
DTSTART:20261025T010000
END:STANDARD
END:VTIMEZONE
BEGIN:VEVENT
DTSTART;TZID=Europe/Helsinki:20251010T163000
DTEND;TZID=Europe/Helsinki:20251010T190000
DTSTAMP:20260421T050218
CREATED:20250806T062647Z
LAST-MODIFIED:20251001T073306Z
UID:142971-1760113800-1760122800@lapci.fi
SUMMARY:Kuulopaja SuperParkissa
DESCRIPTION:Kuulopaja seikkailee Oulun SuperParkissa 10.10.2025 klo 16.30-19! \nTapahtuma on suunnattu n. 8–14-vuotiaille kuulovammaisille ja kuuroille lapsille ja nuorille. Jos tilaa jää\, myös sisarukset ovat tervetulleita mukaan. Tapahtuman tavoitteena on päästä liikkumaan ja viettämään aikaa muiden kuulokavereiden kesken. Hyppimisen jälkeen mahat täytetään hamppareilla ja hyvällä fiiliksellä. Tapahtumassa paikalla ovat Kuuloliiton ja LapCI ry:n ohjaajat. Vanhemmat voivat mennä omia menojaan tapahtuman aikana. Tapahtuma on maksuton. \nAlustava ohjelma \nKlo 16.15-16.30 Tapaaminen Oulun SuperParkissa (Tyrnäväntie 16)\, tutustutaan ja suunnataan temppuilemaan\nKlo 18.30 Hampurilaisbuffet\nKlo 19.00 Tapahtuma päättyy \nOlethan ajoissa paikalla! \nLisätietoja tapahtumasta antaa LapCI ry:n järjestöassistentti Helmi Viljanmaa\, helmi.viljanmaa@lapci.fi tai (Whatsapp) p. 040 664 6059 \nIlmoittautuminen on päättynyt.
URL:https://lapci.fi/tapahtuma/superpark-oulu/
LOCATION:Superpark Oulu\, Tyrnäväntie 16\, 90400\, Oulu
CATEGORIES:koululaiset
ATTACH;FMTTYPE=image/png:https://lapci.fi/wp-content/uploads/2025/07/Tapahtumabanneri-16.png
END:VEVENT
BEGIN:VEVENT
DTSTART;VALUE=DATE:20251017
DTEND;VALUE=DATE:20251021
DTSTAMP:20260421T050218
CREATED:20250618T042659Z
LAST-MODIFIED:20250618T115500Z
UID:34720-1760670000-1760929199@lapci.fi
SUMMARY:Lasten urheiluleiri
DESCRIPTION:Tervetuloa viettämään liikunnallista syyslomaa iloisessa seurassa!\nLasten urheiluleiri kutsuu 7–12-vuotiaat kuurot ja huonokuuloiset lapset mukaan liikkumaan\, leikkimään ja löytämään uusia kavereita.\n\nLeirillä kokeillaan monipuolisesti erilaisia lajeja:\n⚽ Joukkuelajeja\n🤸 Voimistelua\n🥋 Kurkistus kamppailulajin maailmaan\n🌲 Ulkoilua ja pieniä seikkailuja\n💦 Rentoa vesileikkiä Pajulahden uimahallissa\n+ muuta mukavaa yhdessä tekemistä!\n\n\nLeirillä tärkeintä on ilo\, yhdessäolo ja uuden kokeileminen – ei tarvitse olla taitava\, riittää että tulee mukaan! \n\nKenelle?\n7–12-vuotiaille kuuroille ja huonokuuloisille lapsille\nMissä ja milloin?\nLiikuntakeskus Pajulahti\, Nastola\n17.–19.10.2025\nHinta:\n75 € (sis. majoitus\, ruoat ja ohjelma)\nJärjestäjät:\n\nSuomen Kuurojen Urheiluliitto (SKUL) yhteistyössä Kuurojen Liiton ja LapCI ry:n kanssa. Lisätietoja leiristä antaa \nNelli-Sofia Tarvajärvi: nelli-sofia.tarvajarvi@skul.org / p. 0403573965\n\n\nTule mukaan – liikutaan\, leikitään ja vietetään syysloman hauskimmat hetket yhdessä! 🍁\nIlmoittaudu mukaan tästä linkistä: SuomiSport. Huom! Ilmoittautuminen vaatii SuomiSport-tilin luomista.
URL:https://lapci.fi/tapahtuma/lasten-urheiluleiri/
LOCATION:Liikuntakeskus Pajulahti\, Pajulahdentie 167\, Nastola\, 15560\, Suomi
CATEGORIES:koululaiset
ATTACH;FMTTYPE=image/jpeg:https://lapci.fi/wp-content/uploads/2025/06/WhatsApp-Image-2025-06-18-at-14.42.35.jpeg
END:VEVENT
BEGIN:VEVENT
DTSTART;TZID=Europe/Helsinki:20251021T180000
DTEND;TZID=Europe/Helsinki:20251021T190000
DTSTAMP:20260421T050218
CREATED:20250828T112927Z
LAST-MODIFIED:20251021T150429Z
UID:164710-1761069600-1761073200@lapci.fi
SUMMARY:Webinaari: Kuulovammainen lapsi koulussa –  kodin ja koulun välinen yhteistyö koulupolulla
DESCRIPTION:❓Miten vähentää kuulovammaisen lapsen kuormitusta kouluarjessa?\n❓Mitä haasteita vanhempi voi odottaa ja ennakoida koulupolulla\, ja miten niitä voi lähteä ratkaisemaan?\n❓Miten parantaa kodin ja koulun välistä yhteistyötä? \nKuulovammainen lapsi koulussa – kodin ja koulun välinen yhteistyö koulupolulla -webinaarissa tullaan vastaamaan näihin kysymyksiin sekä jakamaan keinoja siihen\, miten vanhempi voi paremmin tukea kuulovammaisen lapsen hyvinvointia ja kehitystä. Aiheina on mm. kuntoutusohjaajan rooli koulun aloituksessa\, apuvälineiden ja avustajien käyttö luokassa\, kuunteluolosuhteiden parantaminen sekä kuulovammaisen lapsen hyvinvoinnin ja identiteetin tukeminen normaalikuuloisten ikätovereiden joukossa. \nWebinaari pidetään tiistaina 21.10.2025 klo 18-19 Zoom-sovelluksessa. Puhujana toimii kokemusasiantuntija\, luokanopettaja (Lo KM) Anni Pelkonen. Luennon päätteeksi on aikaa kysymyksille\, avoimelle keskustelulle ja vertaistuelle. Webinaari on ensisijaisesti suunnattu kuulovammaisten lasten vanhemmille ja huoltajille\, mutta ammattilaiset ja kuulovammaiset nuoret ovat tervetulleita mukaan. \nMikäli sinulla on jo etukäteen mielessä kysymys tai aihe\, jonka toivoisit otettavan esille luennolla\, kerro se ilmoittautumislomakkeessa. Jos sinulla on kysymyksiä webinaariin liittyen\, ole yhteydessä CIsupajan projektikoordinaattoriin Isa Pulliin p. 045 859 0888 / isa.pulli(at)lapci.fi. \nIlmoittautuminen on päättynyt.
URL:https://lapci.fi/tapahtuma/koulupolku/
LOCATION:Zoom
CATEGORIES:vanhemmat,webinaari
ATTACH;FMTTYPE=image/png:https://lapci.fi/wp-content/uploads/2025/08/Koulupolku-banneri-scaled.png
END:VEVENT
END:VCALENDAR