BEGIN:VCALENDAR
VERSION:2.0
PRODID:-//LapCI - ECPv6.15.20//NONSGML v1.0//EN
CALSCALE:GREGORIAN
METHOD:PUBLISH
X-ORIGINAL-URL:https://lapci.fi
X-WR-CALDESC:Tapahtumat LapCI
REFRESH-INTERVAL;VALUE=DURATION:PT1H
X-Robots-Tag:noindex
X-PUBLISHED-TTL:PT1H
BEGIN:VTIMEZONE
TZID:Europe/Helsinki
BEGIN:DAYLIGHT
TZOFFSETFROM:+0200
TZOFFSETTO:+0300
TZNAME:EEST
DTSTART:20240331T010000
END:DAYLIGHT
BEGIN:STANDARD
TZOFFSETFROM:+0300
TZOFFSETTO:+0200
TZNAME:EET
DTSTART:20241027T010000
END:STANDARD
BEGIN:DAYLIGHT
TZOFFSETFROM:+0200
TZOFFSETTO:+0300
TZNAME:EEST
DTSTART:20250330T010000
END:DAYLIGHT
BEGIN:STANDARD
TZOFFSETFROM:+0300
TZOFFSETTO:+0200
TZNAME:EET
DTSTART:20251026T010000
END:STANDARD
BEGIN:DAYLIGHT
TZOFFSETFROM:+0200
TZOFFSETTO:+0300
TZNAME:EEST
DTSTART:20260329T010000
END:DAYLIGHT
BEGIN:STANDARD
TZOFFSETFROM:+0300
TZOFFSETTO:+0200
TZNAME:EET
DTSTART:20261025T010000
END:STANDARD
END:VTIMEZONE
BEGIN:VEVENT
DTSTART;VALUE=DATE:20250912
DTEND;VALUE=DATE:20250916
DTSTAMP:20260420T193735
CREATED:20250618T110023Z
LAST-MODIFIED:20250618T115342Z
UID:16230-1757646000-1757905199@lapci.fi
SUMMARY:Nuorten urheiluleiri
DESCRIPTION:Nuorten urheiluleiri Vierumäellä tarjoaa tilaisuuden kokea monipuolisesti eri urheilulajeja huolimatta siitä\, oletko vasta-alkaja tai kokenut konkari! Leirillä sinulla on oiva mahdollisuus rikkoa omia ennakkoluulojasi turvallisessa ja kannustavassa ympäristössä. \nTule mukaan viettämään vauhdikasta alkusyksyä urheilun parissa. Nuorten urheiluleiri kokoaa jälleen yhteen kuurot ja huonokuuloiset nuoret nauttimaan liikunnasta\, yhdessäolosta ja uusista elämyksistä. \nLeiri järjestetään tutussa ja toimivassa ympäristössä Vierumäellä – ja tarjolla on jälleen tuttu kattaus erilaisia lajeja ja tekemistä: \n🏐 Beachvolley \n🏀 3 vs 3 -koris \n🚵 Maastopyöräily (suosikki viime vuodelta!) \n🎾 Padel \n🥏 Frisbeegolf \n🏊‍♂️ Uiminen \n+ paljon muuta hauskaa ja hikistä tekemistä \nSuomen Kuurojen Urheiluliitto (SKUL) toimii leirin pääjärjestäjänä. Mukana yhteistyössä ovat Kuurojen Liiton nuorisotyö sekä LapCI ry. Järjestöt ovat ottaneet huomioon kuulovammaisten ja viittomakielisten urheiluun liittyvät erityistarpeet. Leirin aikana sinulla on siis mahdollisuus keskittyä täysillä urheiluun ja loistaa siinä! \nTule mukaan kokemaan unohtumaton urheiluseikkailu! \nLeirin hinta on 75 euroa (sis. majoitus\, ruokailut\, ohjelmat) \nIlmoittaudu tämän linkin kautta! Huom\, ilmoittautuminen vaatii SuomiSport-tunnuksen luomista. \nLisätietoja leiristä antaa Nelli-Sofia Tarvajärvi: nelli-sofia.tarvajarvi(at)skul.org / p. 040 357 3965 (ei puheluita).
URL:https://lapci.fi/tapahtuma/nuortenurheiluleiri/
LOCATION:Suomen Urheiluopisto Vierumäki\, Koskelantie 10\, Vierumäki\, 19120\, Suomi
CATEGORIES:nuoret
ATTACH;FMTTYPE=image/jpeg:https://lapci.fi/wp-content/uploads/2024/08/WhatsApp-Image-2025-06-18-at-14.42.45.jpeg
END:VEVENT
BEGIN:VEVENT
DTSTART;VALUE=DATE:20250913
DTEND;VALUE=DATE:20250916
DTSTAMP:20260420T193735
CREATED:20250423T055457Z
LAST-MODIFIED:20250805T070649Z
UID:19244-1757732400-1757905199@lapci.fi
SUMMARY:Pienten lasten vertaisviikonloppu
DESCRIPTION:Pienten lasten vertaisviikonloppu järjestetään Hotelli Siuntiossa 13.-14.9.2025\, tervetuloa mukaan!\nViikonlopun ohjelmassa on ohjattua vertaiskeskustelua vanhemmille\, SI-nuoren ja -vanhemman kokemusasiantuntijapuheenvuoro\, yhteisiä leikkejä\, pelejä\, askartelua ja uintia. Lapsille on hauskaa puuhaa osaavien ohjaajien kanssa sillä välin\, kun aikuisilla on omaa ohjelmaa. Yhdessä teemme myös retken läheiselle laavulle\, jossa paistamme makkaraa ja nautimme yhteisestä ajasta.   \nTapahtumaan ovat tervetulleita 0–6-vuotiaat sisäkorvaistutetta (tai luujohtoistutetta) käyttävät lapset perheineen. Osallistumismaksu on 70 €/ jäsenperhe\, ei-jäsenille 100 € / perhe.  \nAlustava ohjelma:\nLauantai \nKlo 11 Saapuminen ja lounas\nKlo 12 Päiväunet pienimmille\nKlo 13 Tutustumista\, leikkejä ja pelejä\nKlo 14.30 Välipala laavulla\nKlo 15.30 Vanhemmille nuoren kokemuspuheenvuoro ja vertaiskeskustelua. Lapsille leikkiä ja pelejä ulkona ja liikuntasalissa\nKlo 17 Päivällinen\nKlo 18 Yhteistä askartelua\nKlo 19 Iltapala \nSunnuntai \nKlo 8 Aamupala omaan tahtiin\nKlo 9 Uimista (omaan tahtiin)\, huoneiden luovutus\nKlo 11.15 Lounas\nKlo 12 Vanhemmille SI-käyttäjän vanhemman kokemusasiantuntijapuheenvuoro ja vertaiskeskustelua. Lapsille leikkiä liikuntasalissa ja askartelua. Pienimmät päiväunilla\nKlo 13.45 Viimeiset turinat yhdessä ja välipala \nHotelli Siuntion osoite on Lepopirtintie 80\, 02570 Siuntio. Lisätietoja tapahtumasta antaa CIsupajan projektikoordinaattori Isa Pulli: p. 045 859 0888 / isa.pulli(at)lapci.fi. \nHuom! Tapahtuman max. osallistujamäärä on nyt täyttynyt (21.7.)\, tästä eteenpäin ilmoittautujat otetaan varasijoille. \nIlmoittautuminen on päättynyt!
URL:https://lapci.fi/tapahtuma/pientenviikonloppu/
LOCATION:Yksityinen: Hotelli Siuntio\, Lepopirtintie 80\, Siuntio\, 02570
CATEGORIES:alle kouluikäiset
ATTACH;FMTTYPE=image/png:https://lapci.fi/wp-content/uploads/2024/05/Tapahtumabanneri-5.png
END:VEVENT
BEGIN:VEVENT
DTSTART;TZID=Europe/Helsinki:20250916T180000
DTEND;TZID=Europe/Helsinki:20250916T193000
DTSTAMP:20260420T193735
CREATED:20250617T092104Z
LAST-MODIFIED:20250926T095141Z
UID:132946-1758045600-1758051000@lapci.fi
SUMMARY:Webinaari: Kuuluuko nyt? Cochlear™ Nucleus® -puheprosessoreiden yhdistettävyys arjessa
DESCRIPTION:Kuuluuko nyt? Cochlear™ Nucleus® -puheprosessoreiden yhdistettävyys arjessa -webinaari pidetään tiistaina 16.9.2025 klo 18-19.30. \nLapCI ry:n ja Cochlearin yhteistyössä järjestämässä webinaarissa asiantuntija Teemu Koski tulee puhumaan Cochlear™ Nucleus® -puheprosessoreiden yhdistettävyydestä: saatavilla olevia lisälaitteista\, laitteiden suoratoisto-ominaisuuksista sekä Smart App -sovelluksesta. \nWebinaariin osallistuvia kannustetaan esittämään Cochlear™ Nucleus® -laitteita koskevia kysymyksiä ja toiveita jo ilmoittautumislomakkeessa. Tapahtuma on maksuton ja avoin kaikille aiheesta kiinnostuneille. \nLisätietoja tapahtumasta antaa CIsupajan projektikoordinaattori Isa Pulli p. 045 859 0888 / isa.pulli(at)lapci.fi. \nIlmoittautuminen on päättynyt.
URL:https://lapci.fi/tapahtuma/kuuluuko-nyt/
LOCATION:Zoom
CATEGORIES:vanhemmat,webinaari
ATTACH;FMTTYPE=image/png:https://lapci.fi/wp-content/uploads/2025/06/Tapahtumabanneri-12.png
END:VEVENT
BEGIN:VEVENT
DTSTART;TZID=Europe/Helsinki:20250920T160000
DTEND;TZID=Europe/Helsinki:20250920T200000
DTSTAMP:20260420T193735
CREATED:20250714T050009Z
LAST-MODIFIED:20250919T124437Z
UID:34742-1758384000-1758398400@lapci.fi
SUMMARY:Kuulopajan retki Linnanmäen iik!week-festivaaleille
DESCRIPTION:Innostaako kauhu? Oletko pysäyttämätön hurjapää? Tervetuloa mukaan Kuulopajan perinteiselle retkelle Linnanmäen iik!week-kauhufestivaaleille la 20.9. klo 16-20! Tapahtuma on suunnattu n. 13-17-vuotiaille kuulovammaisille nuorille.   \nTapahtuman omavastuu on 25 €\, mikä sisältää rannekkeen. Ohjaajat ovat paikalla klo 16-20\, minkä jälkeen nuoret voivat halutessaan jäädä puistoon omatoimisesti huoltajan luvalla. \nOhjaajina tapahtumassa tulevat toimimaan LapCI ry:n järjestöassistentti Helmi Viljanmaa (p. 040 664 6059) ja Kuuloliiton järjestöassistentti Jenna Linsuri (p. 044 7525570).\n\nIlmoittautuminen on päättynyt!
URL:https://lapci.fi/tapahtuma/iikweek/
LOCATION:Linnanmäki\, Tivolikuja 1\, Helsinki\, 00510\, Suomi
CATEGORIES:nuoret
ATTACH;FMTTYPE=image/png:https://lapci.fi/wp-content/uploads/2024/08/Tapahtumabanneri-13.png
END:VEVENT
BEGIN:VEVENT
DTSTART;TZID=Europe/Helsinki:20250926T163000
DTEND;TZID=Europe/Helsinki:20250928T170000
DTSTAMP:20260420T193735
CREATED:20250228T081235Z
LAST-MODIFIED:20250526T090251Z
UID:97777-1758904200-1759078800@lapci.fi
SUMMARY:Hei\, mitä kuuluu kouluun? -vertaisperhekurssi
DESCRIPTION:Hei\, mitä kuuluu kouluun? -vertaisperhekurssi järjestetään 26.-28.9.2025 Norvajärven leirikeskuksessa\, Rovaniemellä. Kurssin järjestää yhdessä KVLV ry ja LapCI ry. Viikonlopun teemana on kuulovammaisen lapsen koulupolku. Paikalle on tervetulleita myös perheet\, joissa on alle kouluikäinen kuulovammainen lapsi. Kurssi on suunnattu kaikkien 0-17-vuotiaiden kuulovammaisten lasten perheille riippumatta lapsen kuulovamman tyypistä\, kuulon apuvälineestä tai perheen kommunikaatiotavasta.  \nPerusopetuksen oppimisen tuki muuttuu vuonna 2025. Kurssilla tarjotaan tietoa ja mahdollisuuksia vertaistukeen kaikkien kuulovammaisten lasten perheille. Kurssi alkaa perjantaina klo 16.30-17 ilmoittautumisella ja päättyy sunnuntaina n. klo 13 lounaaseen. Perjantaina aloitamme päivällisellä ja yhteinen ohjelma alkaa klo 18. Tervetuloa viettämään mukavaa viikonloppua Lapin upean luonnon äärelle! \nOhjelma\nPe\n16.30-17.00 Ilmoittautuminen ja majoittuminen\n17.00-18.00 Päivällinen\n18.00-19.00 Tervetuloa & tullaan tutuiksi!\n19.00-21.00 Iltapala kodalla & pihapelejä \nLa\n7.30-9.00 Aamupala\n9.15 Lapset ja nuoret ohjaukseen\n9.45-11.15 Aikuisille luento: Kuulovammaisen lapsen koulupolku -perusopetuksen tuen muutokset vuonna 2025\n                  Lapsille & nuorille hauskaa ohjelmaa ikäryhmittäin ohjaajiemme kanssa – liikuntaa\, leikkejä ja taidetuokioita\n11.15-11.30 Lapset ja nuoret ohjauksesta\n11.15-12.15 Lounas\n12.15-12.45 Lapset ja nuoret ohjaukseen\n12.45-16.45 Aikuisille luento: Kuulovammaisen lapsen koulupolku – vinkit arkeen\, kuulovammaisten nuorten kokemuspuheenvuorot\, iltapäiväkahvi ja ohjattu vertaiskeskustelu\n                  Lapsille & nuorille hauskaa ohjelmaa ikäryhmittäin ohjaajiemme kanssa – liikuntaa\, leikkejä ja taidetuokioita\n16.45-17.00 Lapset ja nuoret ohjauksesta\n17.00-18.00 Päivällinen\n18.00-21.00 Rantasaunat & uintia rohkeille! Vapaa-ajalla voitte vietää aikaa yhdessä myös mm. puuhapajassa\, jossa voi pelailla lautapelejä ja piirtää. Iltapala tarjolla. Puuhapajan ovet suljetaan klo 21 \nSu\n7.30-9.00 Aamupala\n9.30-11.30 Koko perheelle yhteinen musapaja & Kurssin päätöstilaisuus\n11.30-12.30 Lounas\n11.30-12.30 Huoneiden luovutus ja kotia kohti monta muistoa rikkaampana! \nMaksaminen ja peruutusehdot\nHinta/omavastuu: 70 € / aikuinen\, kuulovammaiset lapset maksutta ja 15 € sisarus/ kaveri. \nHinta sisältää viikonlopun ohjelman ja aktiviteetit\, lastenohjauksen merkittyinä aikoina\, majoituksen ja täysihoidon kurssin aikana (aamupala\, lounas\, päivällinen\, iltapala)\, joiden yhteisarvo on noin 200 €/hlö. Ohjelmaan kuuluvat mm. asiantuntijaluennot\, kokemuspuheenvuorot\, ohjatut vertaiskeskustelut\, lasten ja nuorten oma ohjelma sekä perheiden yhteinen ohjelma. \nLaskut lähetetään noin kaksi viikkoa ennen kurssia sähköpostitse. Mahdolliset osallistumisen peruutukset tulee tehdä mahdollisimman pian KLVL ry:n toimistolle: toimisto@klvl.fi. Osallistumisen peruuttaminen tulee tehdä viimeistään 21 päivää ennen kurssia. Mikäli peruuttaminen tehdään tämän jälkeen\, veloitamme kurssin omavastuuosuuden. Sairastapauksissa omavastuuta ei peritä\, mutta silloin tulee esittää lääkärin- tai sairaanhoitajan todistus. \nHuom! Pienituloisen jäsenperheen on mahdollista hakea maksuvapautusta viikonlopusta LapCI ry:lta. Olethan tässä tapauksessa yhteydessä CIsupajan projektikoordinaattoriin Isa Pulliin: isa.pulli@lapci.fi\, p\, 045 859 08 88 \nLisätiedot\nLapCI ry:n toiminnanjohtaja Janet Grundström\, s-posti: janet.grundstrom@lapci.fi\, p. 0400 914 583\nVertaistoiminnan koordinaattori Tarja Lindholm\, s-posti: tarja.lindholm@klvl.fi\, p. 050 3010 503 \nJos mieleesi tulee kysyttävää\, ole vain yhteydessä! \n Ilmoittaudu mukaan viimeistään 24.8.2025. Ilmoittautumaan pääset täältä. \nOsallistujat vahvistetaan ilmoittautumisen päätyttyä. Kurssille mahtuu mukaan 8-10 perhettä.
URL:https://lapci.fi/tapahtuma/hei-mita-kuuluu-kouluun-vertaisperhekurssi/
CATEGORIES:alle kouluikäiset,koko perhe,nuoret,vanhemmat
ATTACH;FMTTYPE=image/png:https://lapci.fi/wp-content/uploads/2025/02/Bannereita-2-10.png
END:VEVENT
END:VCALENDAR