BEGIN:VCALENDAR
VERSION:2.0
PRODID:-//LapCI - ECPv6.15.20//NONSGML v1.0//EN
CALSCALE:GREGORIAN
METHOD:PUBLISH
X-ORIGINAL-URL:https://lapci.fi
X-WR-CALDESC:Tapahtumat LapCI
REFRESH-INTERVAL;VALUE=DURATION:PT1H
X-Robots-Tag:noindex
X-PUBLISHED-TTL:PT1H
BEGIN:VTIMEZONE
TZID:Europe/Helsinki
BEGIN:DAYLIGHT
TZOFFSETFROM:+0200
TZOFFSETTO:+0300
TZNAME:EEST
DTSTART:20240331T010000
END:DAYLIGHT
BEGIN:STANDARD
TZOFFSETFROM:+0300
TZOFFSETTO:+0200
TZNAME:EET
DTSTART:20241027T010000
END:STANDARD
BEGIN:DAYLIGHT
TZOFFSETFROM:+0200
TZOFFSETTO:+0300
TZNAME:EEST
DTSTART:20250330T010000
END:DAYLIGHT
BEGIN:STANDARD
TZOFFSETFROM:+0300
TZOFFSETTO:+0200
TZNAME:EET
DTSTART:20251026T010000
END:STANDARD
BEGIN:DAYLIGHT
TZOFFSETFROM:+0200
TZOFFSETTO:+0300
TZNAME:EEST
DTSTART:20260329T010000
END:DAYLIGHT
BEGIN:STANDARD
TZOFFSETFROM:+0300
TZOFFSETTO:+0200
TZNAME:EET
DTSTART:20261025T010000
END:STANDARD
END:VTIMEZONE
BEGIN:VEVENT
DTSTART;TZID=Europe/Helsinki:20251128T170000
DTEND;TZID=Europe/Helsinki:20251128T194500
DTSTAMP:20260421T092721
CREATED:20250919T120022Z
LAST-MODIFIED:20251114T100313Z
UID:165954-1764349200-1764359100@lapci.fi
SUMMARY:CIsupajasen pikkujoulut Flamingo Spassa
DESCRIPTION:Ho ho hoo\, CIsupajanen ottaa varaslähdön joulutunnelmaan!\nCIsupajanen järjestää pikkujoulut Vantaan Flamingo Spassa pe 28.11.2025 klo 17-19.45. Ohjelmassa on ensin kylpylässä pulikoimista\, minkä jälkeen kokoonnumme yhteen herkuttelemaan joulutortuilla\, pipareilla ja glögillä. Saattaapi olla\, että joulupukilla on lapsille luvassa myös pienet yllätykset! \nCIsupajaset ovat jäsentemme ideoimia ja vetämiä matalan kynnyksen vertaistapahtumia. Tapahtuma on suunnattu kaikille sisäkorvaistutetta käyttäville lapsille ja heidän perheilleen\, ei tarvitse olla yhdistyksemme jäsen osallistuakseen. Tapahtuma on maksuton. \nLisätietoja tapahtumasta saat CIsupajan projektikoordinaattorilta Isa Pullilta p. 045 859 0888 / isa.pulli(at)lapci.fi. \nIlmoittautuminen on päättynyt.
URL:https://lapci.fi/tapahtuma/flamingospa/
LOCATION:Flamingo Spa\, 0. kerros\, kauppakeskus Jumbo\, Tasetie 8\, Vantaa\, 01510\, Finland
CATEGORIES:koko perhe
ATTACH;FMTTYPE=image/png:https://lapci.fi/wp-content/uploads/2025/09/Tapahtumabanneri-19-scaled.png
END:VEVENT
END:VCALENDAR