BEGIN:VCALENDAR
VERSION:2.0
PRODID:-//LapCI - ECPv6.15.20//NONSGML v1.0//EN
CALSCALE:GREGORIAN
METHOD:PUBLISH
X-WR-CALNAME:LapCI
X-ORIGINAL-URL:https://lapci.fi
X-WR-CALDESC:Tapahtumat LapCI
REFRESH-INTERVAL;VALUE=DURATION:PT1H
X-Robots-Tag:noindex
X-PUBLISHED-TTL:PT1H
BEGIN:VTIMEZONE
TZID:Europe/Helsinki
BEGIN:DAYLIGHT
TZOFFSETFROM:+0200
TZOFFSETTO:+0300
TZNAME:EEST
DTSTART:20240331T010000
END:DAYLIGHT
BEGIN:STANDARD
TZOFFSETFROM:+0300
TZOFFSETTO:+0200
TZNAME:EET
DTSTART:20241027T010000
END:STANDARD
BEGIN:DAYLIGHT
TZOFFSETFROM:+0200
TZOFFSETTO:+0300
TZNAME:EEST
DTSTART:20250330T010000
END:DAYLIGHT
BEGIN:STANDARD
TZOFFSETFROM:+0300
TZOFFSETTO:+0200
TZNAME:EET
DTSTART:20251026T010000
END:STANDARD
BEGIN:DAYLIGHT
TZOFFSETFROM:+0200
TZOFFSETTO:+0300
TZNAME:EEST
DTSTART:20260329T010000
END:DAYLIGHT
BEGIN:STANDARD
TZOFFSETFROM:+0300
TZOFFSETTO:+0200
TZNAME:EET
DTSTART:20261025T010000
END:STANDARD
END:VTIMEZONE
BEGIN:VEVENT
DTSTART;TZID=Europe/Helsinki:20250831T130000
DTEND;TZID=Europe/Helsinki:20250831T163000
DTSTAMP:20260420T194217
CREATED:20250528T073853Z
LAST-MODIFIED:20250716T065343Z
UID:133086-1756645200-1756657800@lapci.fi
SUMMARY:CIsupajasen ponipäivä
DESCRIPTION:Tervetuloa CIsupajasen ponipäivään Annalan tallille su 31.8.2025 klo 13-16.30!\nPonipäivän ohjelmassa on tutustumista tallin asukkaisiin\, ratsastamista ja hevosenkenkien koristelua\, minkä lisäksi syömme yhdessä pienen välipalan. Annalan talli sijaitsee osoitteessa Hämeentie 154\, 00560 Helsinki. \nTapahtuma on suunnattu sisäkorvaistutetta käyttäville lapsille (4v. ylöspäin). Jos tilaa jää\, myös sisarukset ja muut kuulovammaiset lapset ovat tervetulleita mukaan. Ponipäivän varsinainen ohjelma on suunnattu vain lapsille\, mutta vanhemmat voivat toki jäädä seuraamaan tapahtumaa. Pienimmät saattavat tarvita vanhemman apua askartelussa. Tapahtuma on maksuton. \nTapahtuman vetäjänä toimii LapCI ry:n hallituksen jäsen Suvi Alakalhunmaa\, ja paikalla avustamassa on myös yhdistyksemme työntekijä. Mikäli sinulla on kysyttävää tapahtumaan liittyen ole yhteydessä CIsupajan projektikoordinaattoriin Isa Pulliin p. 045 859 0888 / isa.pulli(at)lapci.fi. \nHUOM! Tapahtuman max. osallistujamäärä on täynnä (16.7.)\, mutta varasijoille voi vielä ilmoittautua.  \nIlmoittaudu tapahtumaan alla olevalla lomakkeella 24.8.2025 mennessä\n\n\n  \n\n\n\nKeräämme tiedot tapahtumaa\, toimintamme kehittämistä sekä rahoittajalle raportointia varten.\n \nHuoltajan nimi*\n\n \nPuhelinnumero*\n\n \nSähköpostiosoite*\n\n \nKäytössä oleva kieli*\n—Valitse vaihtoehto—suomiruotsienglantimuu\n \nJos vastasit muu\, mikä?\n\n \nOsallistuvat lapset*. (Nimi ja ikä\, merkitse myös SI\, jos lapsella on sisäkorvaistute)\n\n\n\n\n \nTarvitsetteko tulkkausta* (Emme osta tulkkipalveluita\, mutta tarvittaessa koordinoimme tulkkien tarvetta)\n—Valitse vaihtoehto—eiviittomakieliviitottu puhekirjoitustulkkaus\n \nRuoka-aineallergiat. Huom! Erittele kenestä kirjoitat.\n\n \nMahdolliset lisätiedot\n\n \nTapahtumassa otettuja valokuvia ja muita tallenteita\, joissa tapahtumaan tällä lomakkeella ilmoittautuneet esiintyvät\, saa käyttää LapCI ry:n viestinnässä (esim. verkkosivut\, esitteet\, tiedotteet\, sosiaalinen media).*\nkylläei\n \nMistä sait tiedon tapahtumasta*\n—Valitse vaihtoehto—Paperinen tiedotewww.lapci.fiFacebookInstagramsähköpostiuutiskirjeystävämuu\n \nJos vastasit muu\, mistä?\n\n \nAnnan suostumukseni lomakkeella antamieni tietojen tallentamiseen ja käsittelyyn.\n \nJos en tule paikalle enkä ilmoita siitä etukäteen\, sitoudun maksamaan 20 € sakkomaksun.\n \nOlen lukenut LapCI ry:n tietosuojaselosteen.\n \n\n \n\n\n\n 
URL:https://lapci.fi/tapahtuma/ponipaiva/
LOCATION:Annalan talli\, Hämeentie 154\, Helsinki\, 00560
CATEGORIES:alle kouluikäiset,koululaiset
ATTACH;FMTTYPE=image/png:https://lapci.fi/wp-content/uploads/2025/05/Tapahtumabanneri-11.png
END:VEVENT
END:VCALENDAR