BEGIN:VCALENDAR
VERSION:2.0
PRODID:-//LapCI - ECPv6.15.20//NONSGML v1.0//EN
CALSCALE:GREGORIAN
METHOD:PUBLISH
X-WR-CALNAME:LapCI
X-ORIGINAL-URL:https://lapci.fi
X-WR-CALDESC:Tapahtumat LapCI
REFRESH-INTERVAL;VALUE=DURATION:PT1H
X-Robots-Tag:noindex
X-PUBLISHED-TTL:PT1H
BEGIN:VTIMEZONE
TZID:Europe/Helsinki
BEGIN:DAYLIGHT
TZOFFSETFROM:+0200
TZOFFSETTO:+0300
TZNAME:EEST
DTSTART:20240331T010000
END:DAYLIGHT
BEGIN:STANDARD
TZOFFSETFROM:+0300
TZOFFSETTO:+0200
TZNAME:EET
DTSTART:20241027T010000
END:STANDARD
BEGIN:DAYLIGHT
TZOFFSETFROM:+0200
TZOFFSETTO:+0300
TZNAME:EEST
DTSTART:20250330T010000
END:DAYLIGHT
BEGIN:STANDARD
TZOFFSETFROM:+0300
TZOFFSETTO:+0200
TZNAME:EET
DTSTART:20251026T010000
END:STANDARD
BEGIN:DAYLIGHT
TZOFFSETFROM:+0200
TZOFFSETTO:+0300
TZNAME:EEST
DTSTART:20260329T010000
END:DAYLIGHT
BEGIN:STANDARD
TZOFFSETFROM:+0300
TZOFFSETTO:+0200
TZNAME:EET
DTSTART:20261025T010000
END:STANDARD
END:VTIMEZONE
BEGIN:VEVENT
DTSTART;VALUE=DATE:20250728
DTEND;VALUE=DATE:20250803
DTSTAMP:20260421T045823
CREATED:20250314T100020Z
LAST-MODIFIED:20250415T074749Z
UID:104627-1753671600-1754103599@lapci.fi
SUMMARY:Suurleiri 2025
DESCRIPTION:Lähde mukaan elämäsi kesäleirille! \nJo kolmatta kertaa järjestettävä Suurleiri on suunnattu 13-17-vuotiaille huonokuuloisille ja kuuroille nuorille. Suurleiri pidetään yhteistyössä muiden kuulo- ja viittomakielialan järjestöjen kanssa. Leirille ovat tervetulleita kaikki kuulovammaiset ja kuulonäkövammaiset nuoret kommunikaatiotavasta riippumatta.\n\nMilloin ja missä?\n28.7.-1.8.2025\, Piispalan nuorisokeskus\, Kannonkoski\nVoit tutustua leiripaikkaan tarkemmin osoitteessa: https://piispala.fi/ \nSelvitämme myös mahdollisen yhteiskuljetuksen järjestämistä leirille\, joten tiedotusta leiristä kannattaa seurata. Järjestämme kuitenkin varmuudella kuljetuksen ainakin lähimmältä julkisen kulkuneuvon pysäkiltä leiripaikalle. Autamme myös osallistujia mahdollisten kimppakyytien kanssa. Ota yhteyttä\, jos tarvitset apua matkajärjestelyiden kanssa!\n\nOhjelma:\nLeirin ohjelmassa on luvassa mm. erilaisia jännittäviä rastiseikkailuja\, Piispalan omia yllätysohjelmanumeroita\, perinteiset leiriolympialaiset sekä tunnelmallisia leirinuotioita. Leiri päätetään tietysti myös huikeisiin viimeisen illan bileisiin! Leirillä pääset tutustumaan uusiin\, mahtaviin tyyppeihin ja mahdollisesti tapaamaan myös vanhoja tuttuja. Samalla saat vertaistukea ja uusia kavereita. Voit tulla leirille täysin omana itsenäsi! Tiedot tarkemmasta ohjelmasta saat lähempänä leiriä.  \n\nIlmoittautuminen\nLeiripaikat täytetään ilmoittautumisjärjestyksessä. Ilmoittaudu mukaan viimeistään 30.4.2025. Leirin hinta on 150 euroa ja se sisältää täysihoidon ja leiriohjelman. Jos leiripaikkoja jää yli varsinaiselta kohderyhmältä\, myös kuulevat sisarukset ja kuurojen vanhempien kuulevat lapset ovat tervetulleita mukaan leirille.\n\nIlmoittaudu mukaan osoitteessa: https://www.lyyti.fi/reg/Suurleiri2025\n\nIlmoittautumisesi vahvistetaan viimeistään ilmoittautumisajan päättyessä. Ennen leirin alkua toimitamme ilmoittautumisen yhteydessä annettuihin sähköpostiosoitteisiin leirikirjeen\, jossa on tärkeää tietoa leiristä. Leirikirje sisältää mm. saapumisohjeet ja pakkausvinkkejä leirille.\n\nSuurleirin järjestäjät:\nKuuloliitto\, Kuurojen Liitto\, LapCI & KLVL.\n\nYhteistyössä ovat mukana myös:\nSuomen Kuurosokeat\, SKUL & Kuurojen Palvelusäätiö\n\nLisätietoja leiristä: \nTaneli Ojala (puhutut tai kirjoitetut kielet) \nKuuloliitto\np. 050 567 0748\ntaneli.ojala@kuuloliitto.fi\n\nMonika Hämälä (viittomakielet tai kirjoitetut kielet)\nKuurojen Liitto\np. 044 741 7254\nmonika.hamala@kuurojenliitto.fi
URL:https://lapci.fi/tapahtuma/suurleiri-2025/
LOCATION:Piispala\, Kurssitie 40\, Kannonkoski\, 43300
ATTACH;FMTTYPE=image/png:https://lapci.fi/wp-content/uploads/2025/03/Banneri.png
END:VEVENT
END:VCALENDAR